BEGIN:VCALENDAR
VERSION:2.0
PRODID:-//wp-events-plugin.com//7.2.3.1//EN
TZID:Europe/Berlin
X-WR-TIMEZONE:Europe/Berlin
BEGIN:VEVENT
UID:9549@unser-haneu.de
DTSTART;TZID=Europe/Berlin:20260425T160000
DTEND;TZID=Europe/Berlin:20260425T190000
DTSTAMP:20260417T093819Z
URL:https://unser-haneu.de/events/20-jahre-djo-landesverband-sachsen-anhal
 t-e-v/
SUMMARY:20 Jahre djo-Landesverband Sachsen-Anhalt e.V.
DESCRIPTION:Seit zwei Jahrzehnten setzen sich engagierte Menschen im djo-La
 ndesverband Sachen-Anhalt e.V. für Vielfalt\, Teilhabe und die Stärkung 
 migrantischer Perspektiven in Sachsen-Anhalt ein. Dieses Jubiläum möchte
 n der Verband mit euch feiern!\n\nLasst uns zusammen auf bewegende Geschic
 hten\, erfolgreiche Projekte und das starke Engagement unserer Mitglieder 
 zurückblicken. Euch erwartet ein abwechslungsreiches Festprogramm mit Mus
 ik\, interkulturellen Köstlichkeiten und vielfältigen Beiträgen aus der
  Community.
ATTACH;FMTTYPE=image/jpeg:https://unser-haneu.de/wp-content/uploads/2026/0
 4/images.png
CATEGORIES:Kunst &amp; Kultur,Musik
LOCATION:Passage 13\, Neustädter Passage 13\, Halle (Saale)\, Sachsen-Anha
 lt\, 06122\, Deutschland
GEO:51.480396;11.921891
X-APPLE-STRUCTURED-LOCATION;VALUE=URI;X-ADDRESS=Neustädter Passage 13\, Ha
 lle (Saale)\, Sachsen-Anhalt\, 06122\, Deutschland;X-APPLE-RADIUS=100;X-TI
 TLE=Passage 13:geo:51.480396,11.921891
END:VEVENT
BEGIN:VTIMEZONE
TZID:Europe/Berlin
X-LIC-LOCATION:Europe/Berlin
BEGIN:DAYLIGHT
DTSTART:20260329T030000
TZOFFSETFROM:+0100
TZOFFSETTO:+0200
TZNAME:CEST
END:DAYLIGHT
END:VTIMEZONE
END:VCALENDAR