BEGIN:VCALENDAR
VERSION:2.0
PRODID:-//wp-events-plugin.com//7.2.3.1//EN
TZID:Europe/Berlin
X-WR-TIMEZONE:Europe/Berlin
BEGIN:VEVENT
UID:8812@unser-haneu.de
DTSTART;TZID=Europe/Berlin:20260219T120000
DTEND;TZID=Europe/Berlin:20260219T140000
DTSTAMP:20260210T211823Z
URL:https://unser-haneu.de/events/aok-infotag-im-schlau-stuebchen/
SUMMARY:AOK-Infotag im Sch(l)au-Stübchen
DESCRIPTION:AOK Infotag\n\nWann? 19.02.2026 und 19.03.2026\, jeweils 12:00 
 -14:00 Uhr\n\nWo? Sch(l)au-Stübchen der GWG Halle-Neustadt\, Azaleenstra
 ße 24\, 06124 Halle (Saale)\n\nDie AOK Sachsen-Anhalt informiert Sie fach
 kundig und geht auf Ihre Fragen ein.\n\nAlle Interessierten sind herzlich 
 eingeladen\, dabei zu sein. Die Veranstaltung ist kostenfrei.\n\nBitte me
 lden Sie sich für diese Veranstaltung an: per E-Mail dzacke@gwg-halle.de 
 oder telefonisch 0345/6923113.\n\n&nbsp\;\n\nMieterservice\, seniorengerec
 ht Wohnen\, Sozialberatung: GWG
ATTACH;FMTTYPE=image/jpeg:https://unser-haneu.de/wp-content/uploads/2026/0
 2/Schlau-Stuebchen-scaled.jpg
CATEGORIES:Beratung &amp;
 Hilfe,Erwachsene,Familien,Frauen,Jugendliche,Kinder,Männer,Queer,Rollstuh
 lgeeignet
LOCATION:Sch(l)au-Stübchen\, Azaleenstraße 24\, Halle (Saale)\, Sachsen-A
 nhalt\, 06122\, Deutschland
GEO:51.481325;11.93451
X-APPLE-STRUCTURED-LOCATION;VALUE=URI;X-ADDRESS=Azaleenstraße 24\, Halle (
 Saale)\, Sachsen-Anhalt\, 06122\, Deutschland;X-APPLE-RADIUS=100;X-TITLE=S
 ch(l)au-Stübchen:geo:51.481325,11.93451
END:VEVENT
BEGIN:VTIMEZONE
TZID:Europe/Berlin
X-LIC-LOCATION:Europe/Berlin
BEGIN:STANDARD
DTSTART:20251026T020000
TZOFFSETFROM:+0200
TZOFFSETTO:+0100
TZNAME:CET
END:STANDARD
END:VTIMEZONE
END:VCALENDAR