BEGIN:VCALENDAR
VERSION:2.0
PRODID:-//wp-events-plugin.com//7.2.3.1//EN
TZID:Europe/Berlin
X-WR-TIMEZONE:Europe/Berlin
BEGIN:VEVENT
UID:3601@unser-haneu.de
DTSTART;TZID=Europe/Berlin:20250811T180000
DTEND;TZID=Europe/Berlin:20250811T180000
DTSTAMP:20250805T090429Z
URL:https://unser-haneu.de/events/auftakttreffen-neustadt-fanclub-gemeinsa
 m-gegen-spaltung-fuer-eine-solidarische-neustadt-am-11-august/
SUMMARY:Auftakttreffen „Neustadt Fanclub: Gemeinsam gegen Spaltung – f
 ür eine solidarische Neustadt!“ am 11. August
DESCRIPTION:Reaktionäre Kräfte schüren Ängste und nutzen soziale Unsich
 erheit\, um mit Feindbildern und Falschinformationen Scheinlösungen zu pr
 oklamieren und Spaltung zu betreiben.\n\nDiese Spaltung nehmen wir nicht h
 in! Mit Haustürgesprächen\, Küfa-Treffen und langfristiger Stadtteil-Or
 ganisierung wollen wir Begegnung schaffen\, Vertrauen aufbauen und zeigen\
 , dass Veränderung von unten möglich ist.\n\nKommt zum Auftakttreffen:\n
 \n 11. August\, 18 Uhr\n\n Passage 13\n\nLerne das Projekt kennen\, bring 
 dich ein oder hör nur zu – mit oder ohne Erfahrung. Wir suchen Menschen
 \, die…\n\n– mit Nachbar*innen sprechen\n\n– bei Haustüraktionen he
 lfen\n\n– Küfa-Treffen mitgestalten\n\n– reinschnuppern wollen\n\nAnm
 eldungen an:\n\nTelegram: @beeifv_ri37 | instagram: @passage13\n\nlinus.wi
 ttkamp@passage13.org\n\n\n\nTeilt das Share Pic – je mehr wir sind\, des
 to mehr ist möglich!
ATTACH;FMTTYPE=image/jpeg:https://unser-haneu.de/wp-content/uploads/2025/0
 8/c.avif
CATEGORIES:Mitmachen,Politik &amp; Gesellschaft
LOCATION:Passage 13\, Neustädter Passage 13\, Halle (Saale)\, Sachsen-Anha
 lt\, 06122\, Deutschland
GEO:51.480396;11.921891
X-APPLE-STRUCTURED-LOCATION;VALUE=URI;X-ADDRESS=Neustädter Passage 13\, Ha
 lle (Saale)\, Sachsen-Anhalt\, 06122\, Deutschland;X-APPLE-RADIUS=100;X-TI
 TLE=Passage 13:geo:51.480396,11.921891
END:VEVENT
BEGIN:VTIMEZONE
TZID:Europe/Berlin
X-LIC-LOCATION:Europe/Berlin
BEGIN:DAYLIGHT
DTSTART:20250330T030000
TZOFFSETFROM:+0100
TZOFFSETTO:+0200
TZNAME:CEST
END:DAYLIGHT
END:VTIMEZONE
END:VCALENDAR