BEGIN:VCALENDAR
VERSION:2.0
PRODID:-//wp-events-plugin.com//7.2.3.1//EN
TZID:Europe/Berlin
X-WR-TIMEZONE:Europe/Berlin
BEGIN:VEVENT
UID:9517@unser-haneu.de
DTSTART;TZID=Europe/Berlin;VALUE=DATE:20260401
DTEND;TZID=Europe/Berlin;VALUE=DATE:20260425
DTSTAMP:20260423T111724Z
URL:https://unser-haneu.de/events/ausstellung-sinti-roma/
SUMMARY:Ausstellung zur NS-Verfolgung von Sinti und Roma
DESCRIPTION:Das Geschichtsprojekt "Tagebuch der Gefühle" widmet sich im Ja
 hr 2022 der Ausarbeitung der NS-Verfolgung von Sinti und Roma. Ein zentral
 es Erlebnis dieser Arbeit ist die Aufarbeitung der Biografie von Muscha M
 üller\, der als Kind in Halle Opfer rassistischer Vernichtungspolitik und
  Zwangssterilisation wurde. Sein Schicksal wurde von der Projektgruppe in 
 einem Comic künstlerisch aufgearbeitet. Nach mehreren Auszeichnungen für
  dieses Werk werden die Originalillustrationen öffentlich in unserem Haus
  ausgestellt.
ATTACH;FMTTYPE=image/jpeg:https://unser-haneu.de/wp-content/uploads/2026/0
 4/csm_WB2324_3.Preis_SBH_Muscha_b9e6a2abf1-e1775115383879.jpg
CATEGORIES:Kunst,Kunst &amp; Kultur
LOCATION:Mehrgenerationenhaus "Pusteblume"\,  Zur Saaleaue 51a\, Halle (Sa
 ale)\, Sachsen-Anhalt\, 06122\, Deutschland
GEO:51.483645;11.93768
X-APPLE-STRUCTURED-LOCATION;VALUE=URI;X-ADDRESS= Zur Saaleaue 51a\, Halle 
 (Saale)\, Sachsen-Anhalt\, 06122\, Deutschland;X-APPLE-RADIUS=100;X-TITLE=
 Mehrgenerationenhaus \"Pusteblume\":geo:51.483645,11.93768
END:VEVENT
BEGIN:VTIMEZONE
TZID:Europe/Berlin
X-LIC-LOCATION:Europe/Berlin
BEGIN:DAYLIGHT
DTSTART:20260329T030000
TZOFFSETFROM:+0100
TZOFFSETTO:+0200
TZNAME:CEST
END:DAYLIGHT
END:VTIMEZONE
END:VCALENDAR