BEGIN:VCALENDAR
VERSION:2.0
PRODID:-//wp-events-plugin.com//7.2.3.1//EN
TZID:Europe/Berlin
X-WR-TIMEZONE:Europe/Berlin
BEGIN:VEVENT
UID:9866@unser-haneu.de
DTSTART;TZID=Europe/Berlin:20260519T100000
DTEND;TZID=Europe/Berlin:20260519T120000
DTSTAMP:20260414T124259Z
URL:https://unser-haneu.de/events/beratung-zu-bestattungsfragen-freie-redn
 erin/
SUMMARY:Beratung zu Bestattungsfragen &amp\; freie Rednerin
DESCRIPTION:Wann? 19.05.2026 von 10:00 - 12:00 Uhr\n\nWo? Sch(l)au-Stübche
 n der GWG Halle-Neustadt\, Azaleenstraße 24\, 06124 Halle (Saale)\n\nBera
 tungs- und Informationsangebot zu den Themen: Bestattungsangelegenheiten u
 nd individuelle Vorsorgemöglichkeiten\, Raum für Trauer &amp\; Gespräch
 e\n\nDie Veranstaltung ist kostenfrei.\n\nBitte melden Sie sich für diese
  Veranstaltung an unter 0345/6923-334 oder per E-Mail an dabeisein@gwg-hal
 le.de\n\nWeitere Veranstaltungen finden Sie unter: Angebote im Sch(l)au-St
 übchen: GWG
ATTACH;FMTTYPE=image/jpeg:https://unser-haneu.de/wp-content/uploads/2026/0
 4/Schlau-Stuebchen.jpg
CATEGORIES:Beratung &amp;
 Hilfe,Erwachsene,Familien,Frauen,Männer,Rollstuhlgeeignet,Senior:innen,Zi
 elgruppe
LOCATION:Sch(l)au-Stübchen\, Azaleenstraße 24\, Halle (Saale)\, Sachsen-A
 nhalt\, 06122\, Deutschland
GEO:51.481325;11.93451
X-APPLE-STRUCTURED-LOCATION;VALUE=URI;X-ADDRESS=Azaleenstraße 24\, Halle (
 Saale)\, Sachsen-Anhalt\, 06122\, Deutschland;X-APPLE-RADIUS=100;X-TITLE=S
 ch(l)au-Stübchen:geo:51.481325,11.93451
END:VEVENT
BEGIN:VTIMEZONE
TZID:Europe/Berlin
X-LIC-LOCATION:Europe/Berlin
BEGIN:DAYLIGHT
DTSTART:20260329T030000
TZOFFSETFROM:+0100
TZOFFSETTO:+0200
TZNAME:CEST
END:DAYLIGHT
END:VTIMEZONE
END:VCALENDAR