BEGIN:VCALENDAR
VERSION:2.0
PRODID:-//wp-events-plugin.com//7.2.3.1//EN
TZID:Europe/Berlin
X-WR-TIMEZONE:Europe/Berlin
BEGIN:VEVENT
UID:8811@unser-haneu.de
DTSTART;TZID=Europe/Berlin:20260226T160000
DTEND;TZID=Europe/Berlin:20260226T170000
DTSTAMP:20260205T130149Z
URL:https://unser-haneu.de/events/besichtigung-des-nachbarschaftszentrums-
 rohbau-am-niedersachsenplatz-1/
SUMMARY:Besichtigung des Nachbarschaftszentrums (Rohbau) am Niedersachsenpl
 atz 1
DESCRIPTION:Gut informiert. Besser entscheiden. Mitgestalten in Halle-Neust
 adt.\n\nIn Halle-Neustadt entsteht ein neues Nachbarschaftszentrum am Nied
 ersachsenplatz.\nGemeinschaft steht dabei im Vordergrund. Ein großer Auß
 enbereich und Räume zur gemeinsamen Nutzung laden zum Verweilen ein. Ein 
 großer Themenbereich des neuen Zentrums ist Gesundheit.\nTäglich gibt es
  neue Schlagzeilen zum Thema Gesundheit. Was bedeutet das\, stimmt das und
  wo finde ich gute Informationen und Beratung?\nUm diese Fragen und noch m
 ehr zu beantworten\, möchten wir mit Ihnen Ideen ausarbeiten und Angebote
  für das Nachbarschaftszentrum entwickeln.\n\nWir möchten eine Gruppe au
 s interessierten Menschen aufbauen\, die sich regelmäßig trifft und übe
 r folgende Fragen spricht:\n– Welche Gesundheitsthemen sind in Halle-Neu
 stadt relevant?\n– Wie sollten diese Themen angeboten werden?\n– Welch
 e Angebote rund um die Gesundheit brauchen Sie in Halle-Neustadt?\n\nWir m
 öchten uns gerne vorstellen und Sie kennenlernen bei einer Besichtigung d
 es Nachbarschaftszentrums (Rohbau)\n\nSie können sich die Räume ansehen 
 und mehr über die Ideen rund um das Thema Gesundheit erfahren.\n\nWann? D
 onnertag\, 26.02.26\, 16:00–17:00 Uhr\n\nWo? Niedersachsenplatz 1\n\nBit
 te melden Sie sich per E-Mail oder Telefon an!\n\nTelefon: 0345 557 1220\;
  E-Mail: haneu.mitgestalten@uk-halle.de\n\n&nbsp\;\n\nWir freuen uns auf I
 hr Kommen!\n\n&nbsp\;\n\n
ATTACH;FMTTYPE=image/jpeg:https://unser-haneu.de/wp-content/uploads/2026/0
 2/Logo_und_Zentrum-1.jpg
CATEGORIES:Beratung &amp;
 Hilfe,Erwachsene,Familien,Frauen,Jugendliche,Kinder,Männer,Mitmachen,Quee
 r,Rollstuhlgeeignet,Senior:innen,Weiterbilden
END:VEVENT
BEGIN:VTIMEZONE
TZID:Europe/Berlin
X-LIC-LOCATION:Europe/Berlin
BEGIN:STANDARD
DTSTART:20251026T020000
TZOFFSETFROM:+0200
TZOFFSETTO:+0100
TZNAME:CET
END:STANDARD
END:VTIMEZONE
END:VCALENDAR