BEGIN:VCALENDAR
VERSION:2.0
PRODID:-//wp-events-plugin.com//7.2.3.1//EN
TZID:Europe/Berlin
X-WR-TIMEZONE:Europe/Berlin
BEGIN:VEVENT
UID:8793@unser-haneu.de
DTSTART;TZID=Europe/Berlin:20260128T150000
DTEND;TZID=Europe/Berlin:20260128T150000
DTSTAMP:20260119T085757Z
URL:https://unser-haneu.de/events/bingo-im-nachbarschafts-cafe/
SUMMARY:BINGO - Im Nachbarschafts-Café
DESCRIPTION:BINGO im Nachbarschafts-Café\nMittwoch\, 28. Januar 2026\nAb 1
 5 Uhr\n\nWeil es beim letzten Mal so schön war\, laden wir euch zur zweit
 en Bingo-Runde in unser neues Nachbarschafts-Café ein. Es gibt wieder sch
 öne Musik\, Snacks und den leckersten Kaffee in Halle-Neustadt\, frisch g
 ezapft aus unserer Siebträgermaschine.\nAlle sind willkommen. Mitspielen 
 ist kostenlos. Es gibt Gewinne für jeden Geschmack! 
ATTACH;FMTTYPE=image/jpeg:https://unser-haneu.de/wp-content/uploads/2026/0
 1/P13-Logo.png
CATEGORIES:Erwachsene,Familien,Frauen,Jugendliche,Kinder,Mitmachen,Party,S
 enior:innen
LOCATION:P13 Nachbarschaftscafé (EG)\, Neustädter Passage 13\, Halle (Saa
 le)\, Sachsen-Anhalt\, 06122\, Deutschland
GEO:51.480346;11.922077
X-APPLE-STRUCTURED-LOCATION;VALUE=URI;X-ADDRESS=Neustädter Passage 13\, Ha
 lle (Saale)\, Sachsen-Anhalt\, 06122\, Deutschland;X-APPLE-RADIUS=100;X-TI
 TLE=P13 Nachbarschaftscafé (EG):geo:51.480346,11.922077
END:VEVENT
BEGIN:VTIMEZONE
TZID:Europe/Berlin
X-LIC-LOCATION:Europe/Berlin
BEGIN:STANDARD
DTSTART:20251026T020000
TZOFFSETFROM:+0200
TZOFFSETTO:+0100
TZNAME:CET
END:STANDARD
END:VTIMEZONE
END:VCALENDAR