BEGIN:VCALENDAR
VERSION:2.0
PRODID:-//wp-events-plugin.com//7.2.3.1//EN
TZID:Europe/Berlin
X-WR-TIMEZONE:Europe/Berlin
BEGIN:VEVENT
UID:4504@unser-haneu.de
DTSTART;TZID=Europe/Berlin:20251107T160000
DTEND;TZID=Europe/Berlin:20251107T210000
DTSTAMP:20251107T150943Z
URL:https://unser-haneu.de/events/blockparty-halle-neustadt/
SUMMARY:Blockparty Halle-Neustadt
DESCRIPTION:Gemeinsam mit dem Allgemeinen Behindertenverband in Halle e.V. 
 und dem Kinder-\, Jugend- und Familienzentrum „Dornröschen“ laden wir
  am Freitag\, 07.11.2025 von 16:00 bis 21:00 Uhr herzlich zu unserer näch
 sten Blockparty. Der Innenhof in der Ernst-Abbe-Straße/Hallorenstraße 
 – direkt beim Dornröschen und dem ABiH e.V. – wird mit interaktiven P
 rojektionen\, Virtual Reality-Welten (VR) und buntem Licht zum Zauberwald.
  Gemeinsam möchten wir bei Musik\, interaktiven und digitalen Angeboten u
 nd Essen die Ecken und Baumwipfel des Innenhofs ausleuchten und zusammenko
 mmen. \nDer Eintritt ist frei.\nStandort: Innenhof Ernst-Abbe-Straße/ Ha
 llorenstraße\, Halle-Neustadt\nZugang über Eingang nähe Ernst-Abbe-Stra
 ße 20\, 06122 Halle (Saale)\nProgramm:\n16:30 Uhr – WIMs singende Post
  – improvisierte Lieder für alle\n17:00 Uhr – Wunschdisko – Wir sp
 ielen Eure Song-Wünsche\n18:00 Uhr – Lea Legrand – tanzbare Beats vo
 m Plattenteller\n\nMehr Infos:\nhttps://wallandspace.org/projects/blockpar
 ty-zauberwald-ernst-abbe-strasse-07-11-25-16-21-uhr/
ATTACH;FMTTYPE=image/jpeg:https://unser-haneu.de/wp-content/uploads/2025/1
 0/Screenshot-2025-10-28-080921.png
CATEGORIES:Erwachsene,Familien,Jugendliche,Musik,Party,Rollstuhlgeeignet,S
 enior:innen,Unser HaNeu Veranstaltungen
LOCATION:Platz vor dem Dornröschen\, Dornröschen \, Halle\, 06122\, Sachs
 en-Anhalt \, Deutschland
GEO:51.480109;11.921265
X-APPLE-STRUCTURED-LOCATION;VALUE=URI;X-ADDRESS=Dornröschen \, Halle\, 061
 22\, Sachsen-Anhalt \, Deutschland;X-APPLE-RADIUS=100;X-TITLE=Platz vor de
 m Dornröschen:geo:51.480109,11.921265
END:VEVENT
BEGIN:VTIMEZONE
TZID:Europe/Berlin
X-LIC-LOCATION:Europe/Berlin
BEGIN:STANDARD
DTSTART:20251026T020000
TZOFFSETFROM:+0200
TZOFFSETTO:+0100
TZNAME:CET
END:STANDARD
END:VTIMEZONE
END:VCALENDAR