BEGIN:VCALENDAR
VERSION:2.0
PRODID:-//wp-events-plugin.com//7.2.3.1//EN
TZID:Europe/Berlin
X-WR-TIMEZONE:Europe/Berlin
BEGIN:VEVENT
UID:1967@unser-haneu.de
DTSTART;TZID=Europe/Berlin:20250915T140000
DTEND;TZID=Europe/Berlin:20250915T170000
DTSTAMP:20250826T100747Z
URL:https://unser-haneu.de/events/energieberatung-der-verbraucherzentrale-
 2025-09-15/
SUMMARY:Energieberatung der Verbraucherzentrale
DESCRIPTION:Energieberatung der Verbraucherzentrale im Mehrgenerationenhaus
  Pusteblume\n\nDie Energieberatung der Verbraucherzentrale bietet ein\n\nr
 egelmäßiges Beratungsangebot im MGH Pusteblume an\n\n(Raum 03\, Foyer/Er
 dgeschoss). Jeden 3. Montag im \n\nMonat\, von 14:00 - 17:00 Uhr\, beantwo
 rtet Energieberater\n\nThomas Nitzschke Ratsuchenden Fragen zum Stromspare
 n\,\n\nHeizen und Lüften oder prüft Heizkostenabrechnungen. Zu den Leist
 ungen gehören auch Beratungen zur energetischen Sanierung\,\n\nzu erneuer
 baren Energien\, Heizungstechnik und Förderprogrammen.
ATTACH;FMTTYPE=image/jpeg:https://unser-haneu.de/wp-content/uploads/2025/0
 7/logo_energieberatung_2025.avif
CATEGORIES:Beratung &amp; Hilfe,Erwachsene,Natur &amp;
 Umwelt,Rollstuhlgeeignet,Senior:innen,Weiterbilden
LOCATION:Mehrgenerationenhaus "Pusteblume"\,  Zur Saaleaue 51a\, Halle (Sa
 ale)\, Sachsen-Anhalt\, 06122\, Deutschland
GEO:51.483645;11.93768
X-APPLE-STRUCTURED-LOCATION;VALUE=URI;X-ADDRESS= Zur Saaleaue 51a\, Halle 
 (Saale)\, Sachsen-Anhalt\, 06122\, Deutschland;X-APPLE-RADIUS=100;X-TITLE=
 Mehrgenerationenhaus \"Pusteblume\":geo:51.483645,11.93768
END:VEVENT
BEGIN:VTIMEZONE
TZID:Europe/Berlin
X-LIC-LOCATION:Europe/Berlin
BEGIN:DAYLIGHT
DTSTART:20250330T030000
TZOFFSETFROM:+0100
TZOFFSETTO:+0200
TZNAME:CEST
END:DAYLIGHT
END:VTIMEZONE
END:VCALENDAR