BEGIN:VCALENDAR
VERSION:2.0
PRODID:-//wp-events-plugin.com//7.2.3.1//EN
TZID:Europe/Berlin
X-WR-TIMEZONE:Europe/Berlin
BEGIN:VEVENT
UID:8798@unser-haneu.de
DTSTART;TZID=Europe/Berlin:20260129T140000
DTEND;TZID=Europe/Berlin:20260129T170000
DTSTAMP:20260126T082500Z
URL:https://unser-haneu.de/events/eroeffnung-interreligioeser-container/
SUMMARY:Eröffnung Interreligiöser Container
DESCRIPTION:Im letzten November haben wir mit dem „Zelt des Glaubens“ s
 chon den Auftakt für unser interreligiöses Projekt gefeiert. Das Zelt is
 t ein mobiler Lern- und Begegnungsort der Religionen\, der zu besonderen A
 nlässen an verschiedenen Orten der Stadt aufgestellt werden kann. Im Bür
 ocontainer „Out of the Box“ darf sich dies nun verstetigen.\n\nZiel un
 seres Projekts ist es\, einen Ort zu schaffen\, wo Menschen andere Religio
 nen kennenlernen\, sich austauschen und Fragen stellen können. Es soll da
 durch nicht nur ein Beitrag zum gegenseitigen Verständnis sein\, sondern 
 auch Vorurteile abbauen und ein starkes Zeichen der Verständigung unter d
 en Religionen setzen.\n\nDer Container kann nach Anmeldung mit Gruppen und
  Schulklassen besucht werden. Er ist ausgestattet mit interaktivem Materia
 l für verschiedene Altersgruppen. Es sind noch dazu feste Öffnungszeiten
  geplant\, um den Container auch individuell besuchen zu können. Am Proje
 kt beteiligt sind bisher folgende Religionsgemeinschaften: Islamisches Kul
 turcenter Halle (Saale) e.V.\, Landesverband Jüdischer Gemeinden\, Evange
 lische Emmausgemeinde Halle als Vertreterin des Kirchenkreises und die hal
 lesche Bahai-Gemeinde.\n\nUm Ihnen und euch unseren Container vorzustellen
 \, laden wir herzlich zur Eröffnung ein: Am Donnerstag\, den 29.01.26 zwi
 schen 14-17 Uhr. Vertreter:innen der verschiedenen Religionsgemeinschaften
  werden vor Ort und für das leibliche Wohl wird gesorgt sein.\n\n&nbsp\;\
 n\n\n\n\n\n\nVeranstaltungsort ist an der Ecke Am Bruchsee/ Albert-Einstei
 n-Straße (hinter Neustadt Center)\n\n\n\n\n\n\n\n\n&nbsp\;\n\n
ATTACH;FMTTYPE=image/jpeg:https://unser-haneu.de/wp-content/uploads/2026/0
 1/Eroeffnung-Container.png
CATEGORIES:Erwachsene,Familien,Frauen,Jugendliche,Kinder,Kreatives
 Mitmachen,Männer,Mitmachen,Queer,Religion,Rollstuhlgeeignet,Senior:innen,
 Weiterbilden
LOCATION:Interreligiöser Container\, Ecke Albert-Einstein-Straße/ Am Bruc
 hsee\, Halle (Saale)\, Sachsen-Anhalt\, 06122\, Deutschland
GEO:51.481672;11.921499
X-APPLE-STRUCTURED-LOCATION;VALUE=URI;X-ADDRESS=Ecke Albert-Einstein-Straß
 e/ Am Bruchsee\, Halle (Saale)\, Sachsen-Anhalt\, 06122\, Deutschland;X-AP
 PLE-RADIUS=100;X-TITLE=Interreligiöser Container:geo:51.481672,11.921499
END:VEVENT
BEGIN:VTIMEZONE
TZID:Europe/Berlin
X-LIC-LOCATION:Europe/Berlin
BEGIN:STANDARD
DTSTART:20251026T020000
TZOFFSETFROM:+0200
TZOFFSETTO:+0100
TZNAME:CET
END:STANDARD
END:VTIMEZONE
END:VCALENDAR