BEGIN:VCALENDAR
VERSION:2.0
PRODID:-//wp-events-plugin.com//7.2.3.1//EN
TZID:Europe/Berlin
X-WR-TIMEZONE:Europe/Berlin
BEGIN:VEVENT
UID:3647@unser-haneu.de
DTSTART;TZID=Europe/Berlin:20250929T120000
DTEND;TZID=Europe/Berlin:20250929T173000
DTSTAMP:20250918T114545Z
URL:https://unser-haneu.de/events/erregung-in-bewegung-sexueller-bildungsw
 orkshop-fuer-frauen/
SUMMARY:Erregung in Bewegung - Sexueller Bildungsworkshop für Frauen*
DESCRIPTION:WORUM GEHT’S?Im Rahmen meines Masterstudiums in Sexologie bie
 te ich einen kostenlosen Workshop für Frauen* ab 18 Jahren an\, die neugi
 erig auf ihren Körper und ihre Sexualität sind.\n\n\n\nWAS DICH ERWARTET
 :\n\n\n 	\nEin geschützter Raum für Austausch &amp\; Reflexion\n\n 	\nK
 örperübungen zu Atem &amp\; Muskelspannung (nach dem Modell Sexocorporel
 )\n\n 	\nImpulse\, um den eigenen Körper und die Erregung besser kennenzu
 lernen\n\n\n\n\n28. September12–17:30 UhrPassage 13Neustädter Passage 1
 3\n\n\n\n➡️ Fragen und Anmeldung an:schneider.soraya@gmx.de\n\n\n\n* M
 it Frauen* sind hier Menschen mit Vulva\, Vagina und Klitoris gemeint. Der
  Workshop bezieht sich sowohl auf körperliche Aspekte als auch auf gesell
 schaftliche Erfahrungen\, die damit verbunden sind. Auch nicht-binäre Per
 sonen\, die sich davon angesprochen fühlen\, sind willkommen.
ATTACH;FMTTYPE=image/jpeg:https://unser-haneu.de/wp-content/uploads/2025/0
 9/photo_2025-09-14_08-23-29q.png
CATEGORIES:Beratung &amp; Hilfe,Erwachsene,Frauen,Weiterbilden
LOCATION:Passage 13\, Neustädter Passage 13\, Halle (Saale)\, Sachsen-Anha
 lt\, 06122\, Deutschland
GEO:51.480396;11.921891
X-APPLE-STRUCTURED-LOCATION;VALUE=URI;X-ADDRESS=Neustädter Passage 13\, Ha
 lle (Saale)\, Sachsen-Anhalt\, 06122\, Deutschland;X-APPLE-RADIUS=100;X-TI
 TLE=Passage 13:geo:51.480396,11.921891
END:VEVENT
BEGIN:VTIMEZONE
TZID:Europe/Berlin
X-LIC-LOCATION:Europe/Berlin
BEGIN:DAYLIGHT
DTSTART:20250330T030000
TZOFFSETFROM:+0100
TZOFFSETTO:+0200
TZNAME:CEST
END:DAYLIGHT
END:VTIMEZONE
END:VCALENDAR