BEGIN:VCALENDAR
VERSION:2.0
PRODID:-//wp-events-plugin.com//7.2.3.1//EN
TZID:Europe/Berlin
X-WR-TIMEZONE:Europe/Berlin
BEGIN:VEVENT
UID:8822@unser-haneu.de
DTSTART;TZID=Europe/Berlin:20260304T150000
DTEND;TZID=Europe/Berlin:20260304T180000
DTSTAMP:20260224T092000Z
URL:https://unser-haneu.de/events/familientreff-zu-warum-gibt-es-den-inter
 nationalen-frauentag/
SUMMARY:Familientreff zu "warum gibt es den internationalen Frauentag"
DESCRIPTION:Hier können Familien zu Kaffee\, Kuchen und guter Laune erfahr
 en was der 8. März bedeutet und\nwarum es diesen gibt.
ATTACH;FMTTYPE=image/jpeg:https://unser-haneu.de/wp-content/uploads/2026/0
 2/8m_sternlogo_rosa-1-1.png
CATEGORIES:Erwachsene,Familien,Frauen,Jugendliche,Kinder,Kreatives
 Mitmachen,Männer,Mitmachen,Politik &amp;
 Gesellschaft,Queer,Rollstuhlgeeignet,Senior:innen,Weiterbilden
LOCATION:Kulturwerkstatt Grüne Villa\, Am Treff 4\, Halle (Saale)\, Sachse
 n-Anhalt\, 06124\, Deutschland
GEO:51.477518;11.928417
X-APPLE-STRUCTURED-LOCATION;VALUE=URI;X-ADDRESS=Am Treff 4\, Halle (Saale)\
 , Sachsen-Anhalt\, 06124\, Deutschland;X-APPLE-RADIUS=100;X-TITLE=Kulturwe
 rkstatt Grüne Villa:geo:51.477518,11.928417
END:VEVENT
BEGIN:VTIMEZONE
TZID:Europe/Berlin
X-LIC-LOCATION:Europe/Berlin
BEGIN:STANDARD
DTSTART:20251026T020000
TZOFFSETFROM:+0200
TZOFFSETTO:+0100
TZNAME:CET
END:STANDARD
END:VTIMEZONE
END:VCALENDAR