BEGIN:VCALENDAR
VERSION:2.0
PRODID:-//wp-events-plugin.com//7.2.3.1//EN
TZID:Europe/Berlin
X-WR-TIMEZONE:Europe/Berlin
BEGIN:VEVENT
UID:8790@unser-haneu.de
DTSTART;TZID=Europe/Berlin:20260122T173000
DTEND;TZID=Europe/Berlin:20260122T193000
DTSTAMP:20260115T102147Z
URL:https://unser-haneu.de/events/fokusgruppen-treffen/
SUMMARY:Fokusgruppen-Treffen
DESCRIPTION:Damit diese Webseite wirklich hilfreich für die Menschen im St
 adtteil wird\, haben wir eine Fokusgruppe eingerichtet. Diese Gruppe spieg
 elt die Vielfalt von Halle-Neustadt wider – verschiedene Altersgruppen\,
  Sprachen und Hintergründe.\n\nDie Teilnehmenden testen die Seite\, geben
  Rückmeldung\, bringen eigene Ideen ein und können bei Interesse auch la
 ngfristig an der Website mitarbeiten.\n\nWenn du auch noch Lust hast\, der
  Fokusgruppe beizutreten\, dann schreibe uns einfach eine Mail an: info@un
 ser-haneu.de\n\nWir freuen uns über alle\, die dabei sein wollen!
ATTACH;FMTTYPE=image/jpeg:https://unser-haneu.de/wp-content/uploads/2025/1
 2/Taube-haneu-signal-2025-08-21-125722.png
CATEGORIES:Erwachsene,Frauen,Highlight,Männer,Mitmachen,Senior:innen,Unse
 r HaNeu Veranstaltungen
LOCATION:Mehrgenerationenhaus "Pusteblume"\,  Zur Saaleaue 51a\, Halle (Sa
 ale)\, Sachsen-Anhalt\, 06122\, Deutschland
GEO:51.483645;11.93768
X-APPLE-STRUCTURED-LOCATION;VALUE=URI;X-ADDRESS= Zur Saaleaue 51a\, Halle 
 (Saale)\, Sachsen-Anhalt\, 06122\, Deutschland;X-APPLE-RADIUS=100;X-TITLE=
 Mehrgenerationenhaus \"Pusteblume\":geo:51.483645,11.93768
END:VEVENT
BEGIN:VTIMEZONE
TZID:Europe/Berlin
X-LIC-LOCATION:Europe/Berlin
BEGIN:STANDARD
DTSTART:20251026T020000
TZOFFSETFROM:+0200
TZOFFSETTO:+0100
TZNAME:CET
END:STANDARD
END:VTIMEZONE
END:VCALENDAR