BEGIN:VCALENDAR
VERSION:2.0
PRODID:-//wp-events-plugin.com//7.2.3.1//EN
TZID:Europe/Berlin
X-WR-TIMEZONE:Europe/Berlin
BEGIN:VEVENT
UID:9547@unser-haneu.de
DTSTART;TZID=Europe/Berlin:20260424T100000
DTEND;TZID=Europe/Berlin:20260531T150000
DTSTAMP:20260407T073242Z
URL:https://unser-haneu.de/events/foto-und-grafik-ausstellung-katze-pilz-u
 nd-sputnik/
SUMMARY:Foto- und Grafik Ausstellung Katze\, Pilz und Sputnik
DESCRIPTION:Ausstellung Fotografie und Grafik von René Langner (Gerüste d
 er Republik) 24.04. bis 24.06.2026\n\nDie Vernissage wird am Freitag\, den
  24. April 2026 16.30 Uhr im Mehrgenerationenhaus Pusteblume Zur Saaleaue 
 51a in Halle Neustadt stattfinden.\n\nMehrgenerationenhaus Pusteblume / Zu
 r Saaleaue 51a\, 06122 Halle (Saale)\n\nIn dieser Ausstellung liegt der Fo
 kus auf den fotografischen und grafischen Arbeiten. So werden Fotografien 
 diverser Klettergerüste aus Deutschland und Osteuropa zu sehen sein\, erg
 änzt von Grafiken unterschiedlichster Formen von Klettergerüsten.\n\nEin
 ige Dinge graben sich tief in das kollektive Gedächtnis von Gesellschafte
 n ein. Das können Ereignisse\, Orte oder Gegenstände sein. Für Kinder i
 n der DDR war das das Spielen auf standardisierten Spielplätzen\, auf den
 en ein Klettergerüst aus Stahlrohr nicht fehlen durfte. \n\nDer Kletterp
 ilz\, welchen man noch vereinzelt antrifft\, ist ein Symbol für die damal
 igen Spielplätze.\n\nNeben diesem Symbol für Spielplätze in der DDR gab
  es noch eine riesige Anzahl anderer Formen\, wie z.B. die zum Ende der 19
 80er Jahre in Halle entworfenen Kletterkatze. Das Hallesche Atelier\, eine
  Außenstelle des renommierten VEB Designprojekt Dresden\, entwarf das Spi
 elgerät und der VEB Industrie- und Kraftwerksrohrleitungen Bitterfeld bau
 te sie. In Halle selbst war sie nicht zu finden. \n\nBei der Recherche zu
 m Projekt stieß René Langner auf einen Artikel zur Entstehungsgeschichte
  in der Für Dich. Im letzten Jahr gab es die Möglichkeit\, eine dieser K
 letterkatzen\, aus Hoyerswerda vor dem Verschrotten zu retten. Seit dem st
 eht die Katze im privaten Garten und wartet darauf wieder im öffentlichen
  Raum aufgestellt zu werden\, denn das ist das Ziel von Langner und seinen
  Mitstreiter*innen.\n\nRené Langner\, Diplom Kulturpädagoge\, beschäfti
 gt sich seit 2020\, eher zufällig mit diesen Spielgeräten. Anfangs als r
 eines Fotomotiv für einen Kletterkalender gedacht\, den er mit dem Klette
 rer Stefan König erdachte und umsetzte\, später durch eine grafische Ann
 äherung. Dabei fanden sich immer neue Formen und die Erkenntnis\, dass di
 ese Klettergerüste kein ausschließliches Phänomen in der DDR waren.\n\n
 Unterstützt wird das Projekt von der Bürgerstiftung Halle\, der Hallianz
  für Vielfalt und dem Mehrgenerationenhaus Pusteblume.\n\nwww.geruesteder
 republik.de\n\nkontakt@geruestederrepublik.de\n\nhttp://www.instagram.com/
 gerueste_der_republik/ \n\n&nbsp\;
ATTACH;FMTTYPE=image/jpeg:https://unser-haneu.de/wp-content/uploads/2026/0
 4/JPEG-Bild-40B8-AA6A-66-0.jpg
CATEGORIES:Erwachsene,Familien,Kunst,Kunst &amp;
 Kultur,Rollstuhlgeeignet,Senior:innen
LOCATION:Mehrgenerationenhaus "Pusteblume"\,  Zur Saaleaue 51a\, Halle (Sa
 ale)\, Sachsen-Anhalt\, 06122\, Deutschland
GEO:51.483645;11.93768
X-APPLE-STRUCTURED-LOCATION;VALUE=URI;X-ADDRESS= Zur Saaleaue 51a\, Halle 
 (Saale)\, Sachsen-Anhalt\, 06122\, Deutschland;X-APPLE-RADIUS=100;X-TITLE=
 Mehrgenerationenhaus \"Pusteblume\":geo:51.483645,11.93768
END:VEVENT
BEGIN:VTIMEZONE
TZID:Europe/Berlin
X-LIC-LOCATION:Europe/Berlin
BEGIN:DAYLIGHT
DTSTART:20260329T030000
TZOFFSETFROM:+0100
TZOFFSETTO:+0200
TZNAME:CEST
END:DAYLIGHT
END:VTIMEZONE
END:VCALENDAR