BEGIN:VCALENDAR
VERSION:2.0
PRODID:-//wp-events-plugin.com//7.2.3.1//EN
TZID:Europe/Berlin
X-WR-TIMEZONE:Europe/Berlin
BEGIN:VEVENT
UID:8818@unser-haneu.de
DTSTART;TZID=Europe/Berlin:20260415T100000
DTEND;TZID=Europe/Berlin:20260415T110000
DTSTAMP:20260318T142812Z
URL:https://unser-haneu.de/events/gesund-und-nachhaltig-essen-mit-kleinem-
 budget-fuer-multiplikatorinnen/
SUMMARY:Gesund und nachhaltig essen mit kleinem Budget (für Multiplikator:
 innen)
DESCRIPTION:Die Verbraucherzentrale Sachsen-Anhalt lädt im Rahmen des IN F
 ORM- Verbundprojekts „Gesund und nachhaltig essen mit kleinem Budget –
  gemeinsam Ernährungsarmut begegnen“ herzlich zur Online-Vortragsreihe 
 für Multiplikator:innen ein!\n\nIn unserem ersten Vortrag möchten wir Ih
 nen das IN FORM- Verbundprojekt vorstellen sowie Tipps und Tricks für ein
 e gesunde Ernährung mit wenig Geld an die Hand geben. Mit praktischen Üb
 ungen können Sie Ihr vorhandenes Wissen bereits testen. Auch stellen wir 
 Ihnen Materialien vor\, die Sie in Ihre eigene Arbeit einfließen lassen k
 önnen.\n\nDie Teilnahme ist kostenlos. Sollten Sie bereits eine Teilnahme
  planen\, sagen Sie uns doch gern schon Bescheid. Ansonsten können Sie si
 ch natürlich auch spontan über den Link einwählen.\n\nBringen Sie gern 
 Ihre Fragen mit – wir freuen uns auf einen Austausch mit Ihnen!\n\nWeite
 re Informationen zum IN FORM-Projekt finden Sie unter: Gesund\, nachhaltig
  und günstig essen – wie geht das? | Verbraucherzentrale Sachsen-Anhalt
 \n\nBei Fragen melden Sie sich gern per Mail an: huke-niemeyer@vzsa.de\n\n
 &nbsp\;\n\n
ATTACH;FMTTYPE=image/jpeg:https://unser-haneu.de/wp-content/uploads/2026/0
 2/gesund-und-nachhaltig-essen-mit-kleinem-budget.jpg
CATEGORIES:Essen,Online Veranstaltung
LOCATION:https://join.next.edudip.com/de/webinar/gesund-und-nachhaltig-esse
 n-mit-kleinem-budget/2612208
END:VEVENT
BEGIN:VTIMEZONE
TZID:Europe/Berlin
X-LIC-LOCATION:Europe/Berlin
BEGIN:DAYLIGHT
DTSTART:20260329T030000
TZOFFSETFROM:+0100
TZOFFSETTO:+0200
TZNAME:CEST
END:DAYLIGHT
END:VTIMEZONE
END:VCALENDAR