BEGIN:VCALENDAR
VERSION:2.0
PRODID:-//wp-events-plugin.com//7.2.3.1//EN
TZID:Europe/Berlin
X-WR-TIMEZONE:Europe/Berlin
BEGIN:VEVENT
UID:7@unser-haneu.de
DTSTART;TZID=Europe/Berlin:20250614T100000
DTEND;TZID=Europe/Berlin:20250614T140000
DTSTAMP:20250602T120307Z
URL:https://unser-haneu.de/events/grosses-gwg-sommerfest/
SUMMARY:Großes GWG-Sommerfest
DESCRIPTION:\n\n\nIhr seid ganz herzlich zu unserem großen GWG-Sommerfest 
 eingeladen!\n\n\n\n\n\nEs gibt Action und Spaß für die Kleinen mit Hüpf
 burg\, Kinderschminken\, Spiel- und Bastelstraße\, Popcorn ... und die Gr
 oßen werden beim Kaffeeplausch ebenfalls gut unterhalten.\n\nMit dabei: W
 ildcats\, Saale Bulls\, Congrav\, Passage 13\, Grüne Villa\, Freiwilligen
 agentur und viele andere\n\nWann?  Samstag\, 14. Juni 2025\, 10.00-14.00 
 Uhr\nWo? auf dem Stadtplatz vor dem Neustadt Centrum\n\nKommt vorbei! Wir
  freuen uns auf euch!\n\n
CATEGORIES:Familien,Jugendliche,Party,Senior:innen
LOCATION:Neustadt Centrum\, Neustädter Passage 17\, Halle (Saale)\, Sachse
 n-Anhalt\, 06122\, Deutschland
GEO:51.479834;11.920283
X-APPLE-STRUCTURED-LOCATION;VALUE=URI;X-ADDRESS=Neustädter Passage 17\, Ha
 lle (Saale)\, Sachsen-Anhalt\, 06122\, Deutschland;X-APPLE-RADIUS=100;X-TI
 TLE=Neustadt Centrum:geo:51.479834,11.920283
END:VEVENT
BEGIN:VTIMEZONE
TZID:Europe/Berlin
X-LIC-LOCATION:Europe/Berlin
BEGIN:DAYLIGHT
DTSTART:20250330T030000
TZOFFSETFROM:+0100
TZOFFSETTO:+0200
TZNAME:CEST
END:DAYLIGHT
END:VTIMEZONE
END:VCALENDAR