BEGIN:VCALENDAR
VERSION:2.0
PRODID:-//wp-events-plugin.com//7.2.3.1//EN
TZID:Europe/Berlin
X-WR-TIMEZONE:Europe/Berlin
BEGIN:VEVENT
UID:4176@unser-haneu.de
DTSTART;TZID=Europe/Berlin:20251031T140000
DTEND;TZID=Europe/Berlin:20251031T180000
DTSTAMP:20251015T125846Z
URL:https://unser-haneu.de/events/hackathon-auf-dem-silbersalzfestival/
SUMMARY:Hackathon auf dem SilberSalzFestival
DESCRIPTION:Entdecke Halle-Neustadt – gemeinsam unterwegs auf spannenden 
 Routen\n\n\nHalle-Neustadt steckt voller Überraschungen – grüne Parks\
 , liebevoll gestaltete Brunnen\, beeindruckende Wandbilder und viele weite
 re besondere Ecken warten nur darauf\, entdeckt zu werden!\n\nDamit all di
 ese Schätze sichtbarer werden\, wollen wir gemeinsam mit euch – den Men
 schen aus Neustadt und allen\, die Lust haben mitzumachen – eine digital
 e Karte erstellen. Ob mit dem Fahrrad\, Skateboard oder Rollstuhl: Wir mac
 hen uns auf den Weg und suchen die schönsten Strecken\, um von Highlight 
 zu Highlight zu kommen.\n\nUnterwegs sammeln wir Geschichten\, machen Foto
 s und drehen kleine Videos – denn jeder dieser Orte erzählt etwas. Unse
 re IT-Profis kümmern sich darum\, dass alles auf einer digitalen Karte la
 ndet\, die ganz auf Halle-Neustadt zugeschnitten ist.\n\nKomm mit uns auf 
 Entdeckungstour durch HaNeu! Wir freuen uns auf dich!\n\nTreffpunkt ist im
 mer das NachbarschaftsCafé der Passage 13\n(Neustädter Passage 13\, 0612
 2 Halle)\n\nUnsere nächsten Termine\, die du nicht verpassen solltest:\nF
 reitag\, 31.10.\, 14-18 Uhr: Hackathon auf dem SilbersalzFestival\nKomm ei
 nfach dazu oder schreib uns eine Mail an: skatespotting@unser-haneu.de\n\n
LOCATION:ehemals Galeria Kaufhof\, Marktplatz 20\, Halle (Saale)\, Sachsen-
 Anhalt\, 06108\, Deutschland
GEO:51.483417;11.970176
X-APPLE-STRUCTURED-LOCATION;VALUE=URI;X-ADDRESS=Marktplatz 20\, Halle (Saal
 e)\, Sachsen-Anhalt\, 06108\, Deutschland;X-APPLE-RADIUS=100;X-TITLE=ehema
 ls Galeria Kaufhof:geo:51.483417,11.970176
END:VEVENT
BEGIN:VTIMEZONE
TZID:Europe/Berlin
X-LIC-LOCATION:Europe/Berlin
BEGIN:STANDARD
DTSTART:20251026T020000
TZOFFSETFROM:+0200
TZOFFSETTO:+0100
TZNAME:CET
END:STANDARD
END:VTIMEZONE
END:VCALENDAR