BEGIN:VCALENDAR
VERSION:2.0
PRODID:-//wp-events-plugin.com//7.2.3.1//EN
TZID:Europe/Berlin
X-WR-TIMEZONE:Europe/Berlin
BEGIN:VEVENT
UID:9548@unser-haneu.de
DTSTART;TZID=Europe/Berlin:20260324T143000
DTEND;TZID=Europe/Berlin:20260324T160000
DTSTAMP:20260407T074103Z
URL:https://unser-haneu.de/events/haekeln-stricken-im-nachbarschaftscafe-d
 er-p13/
SUMMARY:Häkeln &amp\; Stricken im Nachbarschaftscafé der P13
DESCRIPTION:Häkeln &amp\; Stricken im Nachbarschaftscafé der P13\n\nDu ha
 st Lust\, mit Wolle kreativ zu werden? Dann komm vorbei!\nOb Anfängerin o
 der fortgeschritten – Rosi zeigt dir Tipps und Tricks rund ums Häkeln u
 nd Stricken. Gemeinsam macht’s einfach mehr Spaß!\n\n&#x1f9f6\; Jeden D
 ienstag von 14:30 bis 16:00 Uhr\n&#x1f4cd\; Im Nachbarschaftscafé der Pas
 sage 13\n&#x1f4ac\; Kostenlos und offen für alle\n\nMach mit\, lerne neue
  Menschen kennen und bring\, wenn du magst\, dein eigenes Projekt mit.
ATTACH;FMTTYPE=image/jpeg:https://unser-haneu.de/wp-content/uploads/2026/0
 3/StrickenP13.jpeg
CATEGORIES:Erwachsene,Frauen,Jugendliche,Kinder,Kreatives Mitmachen,Kunst
 &amp;
 Kultur,Männer,Mitmachen,Queer,Rollstuhlgeeignet,Senior:innen,Weiterbilden
LOCATION:Passage 13\, Neustädter Passage 13\, Halle (Saale)\, Sachsen-Anha
 lt\, 06122\, Deutschland
GEO:51.480396;11.921891
X-APPLE-STRUCTURED-LOCATION;VALUE=URI;X-ADDRESS=Neustädter Passage 13\, Ha
 lle (Saale)\, Sachsen-Anhalt\, 06122\, Deutschland;X-APPLE-RADIUS=100;X-TI
 TLE=Passage 13:geo:51.480396,11.921891
END:VEVENT
BEGIN:VTIMEZONE
TZID:Europe/Berlin
X-LIC-LOCATION:Europe/Berlin
BEGIN:STANDARD
DTSTART:20251026T020000
TZOFFSETFROM:+0200
TZOFFSETTO:+0100
TZNAME:CET
END:STANDARD
END:VTIMEZONE
END:VCALENDAR