BEGIN:VCALENDAR
VERSION:2.0
PRODID:-//wp-events-plugin.com//7.2.3.1//EN
TZID:Europe/Berlin
X-WR-TIMEZONE:Europe/Berlin
BEGIN:VEVENT
UID:7808@unser-haneu.de
DTSTART;TZID=Europe/Berlin:20260604T150000
DTEND;TZID=Europe/Berlin:20260604T150000
DTSTAMP:20251217T135526Z
URL:https://unser-haneu.de/events/handarbeitsgruppe-2-2026-01-08-2026-01-1
 5-2026-01-22-2026-01-29-2026-02-05-2026-02-12-2026-02-19-2026-02-26-2026-0
 3-05-2026-03-12-2026-03-19-2026-03-26-2026-04-02-2026-04-09-2026-04-16-2-2
 8-2026-06-04/
SUMMARY:Handarbeitsgruppe
DESCRIPTION:Wöchentliche Gruppen im Gemeindezentrum Neustadt:\nKantorei Mo
 ntag 19.30 Uhr\nPosaunenchor Dienstag 18.30 Uhr\nHandwerkergruppe Donnerst
 ag 8.00 - 12.00 Uhr\nHandarbeitsgruppe Donnerstag 15.00 Uhr\n\nhttps://emm
 aus-halle.de/
ATTACH;FMTTYPE=image/jpeg:https://unser-haneu.de/wp-content/uploads/2025/1
 0/Screenshot-2025-10-16-115337.png
CATEGORIES:Mitmachen,Religion
LOCATION:Passendorfer Kirche\, Schulplatz 4\, Halle (Saale)\, Sachsen-Anhal
 t\, 06124\, Deutschland
GEO:51.472186;11.92953
X-APPLE-STRUCTURED-LOCATION;VALUE=URI;X-ADDRESS=Schulplatz 4\, Halle (Saale
 )\, Sachsen-Anhalt\, 06124\, Deutschland;X-APPLE-RADIUS=100;X-TITLE=Passen
 dorfer Kirche:geo:51.472186,11.92953
END:VEVENT
BEGIN:VTIMEZONE
TZID:Europe/Berlin
X-LIC-LOCATION:Europe/Berlin
BEGIN:DAYLIGHT
DTSTART:20260329T030000
TZOFFSETFROM:+0100
TZOFFSETTO:+0200
TZNAME:CEST
END:DAYLIGHT
END:VTIMEZONE
END:VCALENDAR