BEGIN:VCALENDAR
VERSION:2.0
PRODID:-//wp-events-plugin.com//7.2.3.1//EN
TZID:Europe/Berlin
X-WR-TIMEZONE:Europe/Berlin
BEGIN:VEVENT
UID:8792@unser-haneu.de
DTSTART;TZID=Europe/Berlin:20260212T143000
DTEND;TZID=Europe/Berlin:20260212T170000
DTSTAMP:20260119T085000Z
URL:https://unser-haneu.de/events/haneuer-wohnen-fasching/
SUMMARY:Haneuer Wohnen Fasching
DESCRIPTION:Helau und Alaaf! \n\nLiebe Mieterinnen und Mieter bei Haneuer W
 ohnen\, \nwir laden Sie herzlich zu unserer Faschingsfeier ein\, mit Musik
 \, Tanz\, leckeren Snacks und Getränken! \n\nWann? 12.02.2026 \nvon 14:30
 -17:00 Uhr \n\nWo: Telemannstraße 1\, 06124 Halle (Saale)\, 5. OG (mit Fa
 hrstuhl) \n\nKosten: 10€ pro Person \n\nAnmeldungen unter bis 03.02.2026
  unter: 0345 6913150 (Personenanzahl begrenzt auf 25 P.) \n\nDie Kassierun
 g erfolgt am 05.02.2026 in der: Arnold-Zweig-Str. 1 von 10:00-11:00 Uhr un
 d Telemannnstr. 1 von 13:00-14:00 Uhr \n\nWir freuen uns auf eine fröhlic
 he und bunte Feier mit Ihnen! 
LOCATION:HaNeuer Wohnen\, Telemannstraße 1\, Halle (Saale)\, Sachsen-Anhal
 t\, 06124\, Deutschland
GEO:51.469543;11.926393
X-APPLE-STRUCTURED-LOCATION;VALUE=URI;X-ADDRESS=Telemannstraße 1\, Halle (
 Saale)\, Sachsen-Anhalt\, 06124\, Deutschland;X-APPLE-RADIUS=100;X-TITLE=H
 aNeuer Wohnen:geo:51.469543,11.926393
END:VEVENT
BEGIN:VTIMEZONE
TZID:Europe/Berlin
X-LIC-LOCATION:Europe/Berlin
BEGIN:STANDARD
DTSTART:20251026T020000
TZOFFSETFROM:+0200
TZOFFSETTO:+0100
TZNAME:CET
END:STANDARD
END:VTIMEZONE
END:VCALENDAR