BEGIN:VCALENDAR
VERSION:2.0
PRODID:-//wp-events-plugin.com//7.2.3.1//EN
TZID:Europe/Berlin
X-WR-TIMEZONE:Europe/Berlin
BEGIN:VEVENT
UID:6@unser-haneu.de
DTSTART;TZID=Europe/Berlin:20250614T100000
DTEND;TZID=Europe/Berlin:20250614T140000
DTSTAMP:20250602T120216Z
URL:https://unser-haneu.de/events/kaffeeplausch-fuer-seniorinnen/
SUMMARY:Kaffeeplausch für Senior:innen
DESCRIPTION:Manchmal tut es gut\, einfach mal ein freundliches Gesicht zu s
 ehen und ein paar Worte zu wechseln. Deshalb laden GWG und der Seniorenbes
 uchsdienst KlingelZeichen zum gemütlichen Kaffeeplausch ein - bei Gebäck
  und Kaffee finden Sie ein offenes Ohr\, nette Gespräche und Gesellschaft
 .\n\nOb Sie Kontakte knüpfen oder einfach mal nur unter Menschen sein wol
 len - Sie sind herzlich willkommen! Trauen Sie sich. Wir freuen uns auf Si
 e\, ganz ohne Anmeldung und ohne Verpflichtung.\n\nKommen Sie vorbei :-)
CATEGORIES:Essen,Mitmachen,Senior:innen
LOCATION:Vor dem Wohngucker\, Neustädter Passage 17d\, Halle (Saale)\, Sac
 hsen-Anhalt\, 06122\, Deutschland
GEO:51.480363;11.91964
X-APPLE-STRUCTURED-LOCATION;VALUE=URI;X-ADDRESS=Neustädter Passage 17d\, H
 alle (Saale)\, Sachsen-Anhalt\, 06122\, Deutschland;X-APPLE-RADIUS=100;X-T
 ITLE=Vor dem Wohngucker:geo:51.480363,11.91964
END:VEVENT
BEGIN:VTIMEZONE
TZID:Europe/Berlin
X-LIC-LOCATION:Europe/Berlin
BEGIN:DAYLIGHT
DTSTART:20250330T030000
TZOFFSETFROM:+0100
TZOFFSETTO:+0200
TZNAME:CEST
END:DAYLIGHT
END:VTIMEZONE
END:VCALENDAR