BEGIN:VCALENDAR
VERSION:2.0
PRODID:-//wp-events-plugin.com//7.2.3.1//EN
TZID:Europe/Berlin
X-WR-TIMEZONE:Europe/Berlin
BEGIN:VEVENT
UID:8827@unser-haneu.de
DTSTART;TZID=Europe/Berlin:20260311T180000
DTEND;TZID=Europe/Berlin:20260311T200000
DTSTAMP:20260224T095613Z
URL:https://unser-haneu.de/events/keine-macht-der-ohnmacht-chancen-von-nac
 hbarschaftsprojekten-im-kampf-gegen-rechtsextremismus/
SUMMARY:Keine Macht der Ohnmacht! Chancen von Nachbarschaftsprojekten im Ka
 mpf gegen Rechtsextremismus
DESCRIPTION:Deutschland im permanenten Krisenmodus: hohe Preise\, wirtschaf
 tliche Flaute\, Anschläge und politische Polarisierung. Kriege und Erderw
 ärmung scheinen unlösbar. Darauf reagieren Menschen unterschiedlich: kä
 mpferisch\, angepasst\, mit Rückzug. Immer mehr meinen\, nichts tun zu k
 önnen. Dabei verspricht Demokratie doch Mitbestimmung! Das neue Buch von 
 Matthias Quent zeigt auf wissenschaftlicher Grundlage\, wie die Probleme u
 nd schlechten Stimmungen in unserer Krisen geplagten Gesellschaft wirken 
 — persönlich und politisch.\n\nAngelehnt daran wollen wir über die Fra
 ge sprechen\, inwiefern Nachbarschaftsorganisierungen und Nachbarschaftspr
 ojekte auf die Auswirkungen der permanenten Krisen positiv einwirken könn
 en – dies beispielweise mit Blick auf den befürchteten Anstieg rechtsex
 tremer Positionen im Kontext der bevorstehenden Landtagswahl.\n\nLesung un
 d Gespräch mit Matthias Quent\n\nAnmeldung oder Fragen bitte an: n.rohde@
 awo-spi.de\n\n&nbsp\;\n\n
ATTACH;FMTTYPE=image/jpeg:https://unser-haneu.de/wp-content/uploads/2026/0
 2/Design.jpg
CATEGORIES:Erwachsene,Politik &amp; Gesellschaft,Weiterbilden
LOCATION:Mehrgenerationenhaus "Pusteblume"\,  Zur Saaleaue 51a\, Halle (Sa
 ale)\, Sachsen-Anhalt\, 06122\, Deutschland
GEO:51.483645;11.93768
X-APPLE-STRUCTURED-LOCATION;VALUE=URI;X-ADDRESS= Zur Saaleaue 51a\, Halle 
 (Saale)\, Sachsen-Anhalt\, 06122\, Deutschland;X-APPLE-RADIUS=100;X-TITLE=
 Mehrgenerationenhaus \"Pusteblume\":geo:51.483645,11.93768
END:VEVENT
BEGIN:VTIMEZONE
TZID:Europe/Berlin
X-LIC-LOCATION:Europe/Berlin
BEGIN:STANDARD
DTSTART:20251026T020000
TZOFFSETFROM:+0200
TZOFFSETTO:+0100
TZNAME:CET
END:STANDARD
END:VTIMEZONE
END:VCALENDAR