BEGIN:VCALENDAR
VERSION:2.0
PRODID:-//wp-events-plugin.com//7.2.3.1//EN
TZID:Europe/Berlin
X-WR-TIMEZONE:Europe/Berlin
BEGIN:VEVENT
UID:6656@unser-haneu.de
DTSTART;TZID=Europe/Berlin:20260301T120000
DTEND;TZID=Europe/Berlin:20260301T140000
DTSTAMP:20260130T110809Z
URL:https://unser-haneu.de/events/kinder-jugendtheater-2026-03-01/
SUMMARY:Kinder-& Jugendtheater-Kurs
DESCRIPTION:\n\n// jeden Sonntag // 12h – 14h // 8 – 14 Jahre //\n\nBis
  du zwischen 8 – 14 Jahre alt? Präsentierst du gerne lustige und nützl
 iche Ideen auf der Bühne?\n\nWir warten darauf\, dass du jeden Sonntag zu
  uns kommst\, um gemeinsam ein Theaterstück zu machen. Komm\, um unsere e
 igene Welt durch Spielen\, Lachen und gute Ideen zu kreieren.\n\n\nKinder-
  &amp\; Jugendtheater - PASSAGE 13\n\nOrt: Passage 13 - EG - Eventraum\n\n
 \n&nbsp\;\n\n
ATTACH;FMTTYPE=image/jpeg:https://unser-haneu.de/wp-content/uploads/2025/0
 2/P13-Logo.avif
CATEGORIES:Familien,Jugendliche,Theater
LOCATION:Passage 13\, Neustädter Passage 13\, Halle (Saale)\, Sachsen-Anha
 lt\, 06122\, Deutschland
GEO:51.480396;11.921891
X-APPLE-STRUCTURED-LOCATION;VALUE=URI;X-ADDRESS=Neustädter Passage 13\, Ha
 lle (Saale)\, Sachsen-Anhalt\, 06122\, Deutschland;X-APPLE-RADIUS=100;X-TI
 TLE=Passage 13:geo:51.480396,11.921891
END:VEVENT
BEGIN:VTIMEZONE
TZID:Europe/Berlin
X-LIC-LOCATION:Europe/Berlin
BEGIN:STANDARD
DTSTART:20251026T020000
TZOFFSETFROM:+0200
TZOFFSETTO:+0100
TZNAME:CET
END:STANDARD
END:VTIMEZONE
END:VCALENDAR