BEGIN:VCALENDAR
VERSION:2.0
PRODID:-//wp-events-plugin.com//7.2.3.1//EN
TZID:Europe/Berlin
X-WR-TIMEZONE:Europe/Berlin
BEGIN:VEVENT
UID:9191@unser-haneu.de
DTSTART;TZID=Europe/Berlin:20260328T110000
DTEND;TZID=Europe/Berlin:20260328T170000
DTSTAMP:20260328T081341Z
URL:https://unser-haneu.de/events/kleidertausch/
SUMMARY:Kleidertausch
DESCRIPTION:Bei unserem Kleidertausch kannst du gut erhaltene Kleidung\, di
 e du nicht mehr trägst\, abgeben und deinen Kleiderschrank neu auffüllen
 .\nDu musst aber keine Kleidung mitbringen\, sondern kannst auch einfach s
 o stöbern und dir etwas mitnehmen. Und das Beste: Es ist komplett kostenl
 os! Über eine Spende freuen wir uns natürlich trotzdem\, um das ehrenamt
 liche Projekt zu finanzieren. Deine Spende sorgt zum Beispiel dafür\, das
 s neue Umkleiden entstehen.
ATTACH;FMTTYPE=image/jpeg:https://unser-haneu.de/wp-content/uploads/2026/0
 3/IMG_7135.jpeg
CATEGORIES:Erwachsene,Frauen,Jugendliche,Männer,Markt &amp;
 Flohmarkt,Mitmachen,Queer,Senior:innen
LOCATION:Passage 13\, Neustädter Passage 13\, Halle (Saale)\, Sachsen-Anha
 lt\, 06122\, Deutschland
GEO:51.480396;11.921891
X-APPLE-STRUCTURED-LOCATION;VALUE=URI;X-ADDRESS=Neustädter Passage 13\, Ha
 lle (Saale)\, Sachsen-Anhalt\, 06122\, Deutschland;X-APPLE-RADIUS=100;X-TI
 TLE=Passage 13:geo:51.480396,11.921891
END:VEVENT
BEGIN:VTIMEZONE
TZID:Europe/Berlin
X-LIC-LOCATION:Europe/Berlin
BEGIN:STANDARD
DTSTART:20251026T020000
TZOFFSETFROM:+0200
TZOFFSETTO:+0100
TZNAME:CET
END:STANDARD
END:VTIMEZONE
END:VCALENDAR