BEGIN:VCALENDAR
VERSION:2.0
PRODID:-//wp-events-plugin.com//7.2.3.1//EN
TZID:Europe/Berlin
X-WR-TIMEZONE:Europe/Berlin
BEGIN:VEVENT
UID:8781@unser-haneu.de
DTSTART;TZID=Europe/Berlin:20260127T110000
DTEND;TZID=Europe/Berlin:20260127T120000
DTSTAMP:20260126T080004Z
URL:https://unser-haneu.de/events/kurzschulung-fuer-unser-haneu-veranstalt
 ungskalender-2/
SUMMARY:ABGESAGT: Kurzschulung für Unser HaNeu Veranstaltungskalender
DESCRIPTION:Neuer Termin: Donnertag 05.02.26 - um 11 Uhr in Präsenz\n\nwww
 .unser-haneu.de bietet einen zentralen Veranstaltungskalender für Halle-N
 eustadt. Als Akteure in diesem Stadtteil habt ihr die Möglichkeit\, Veran
 staltungen eurer Institutionen dort selbst einzutragen. An zwei Terminen m
 öchten wir als Team von Unser HaNeu gern zeigen\, wie ihr eure Veranstalt
 ungen unkompliziert und eigenständig einstellen könnt.\nIdeal für Verei
 ne\, Initiativen und Engagierte!\n\nDazu laden wir euch herzlich zu einer 
 kurzen Schulung ein.\n\nOrt: Mehrgenerationshaus Pusteblume: Zur Saaleaue 
 51a\, 06122 Halle (Saale)\n\nIm Anschluss an den Präsenz-Termin möchten 
 wir den Austausch gern mit einem gemeinsamen veganen Mittagessen fortsetze
 n. Das Essen ist optional\, bietet aber eine schöne Gelegenheit zum Kenne
 nlernen\, Vernetzen und für weitere Fragen in entspannter Runde.\n\nUnter
  info@unser-haneu.de könnt ihr euch jeweils für die Veranstaltungen anme
 lden
ATTACH;FMTTYPE=image/jpeg:https://unser-haneu.de/wp-content/uploads/2025/1
 2/Taube-haneu-signal-2025-08-21-125722.png
CATEGORIES:Beratung &amp; Hilfe,Essen,Mitmachen,Unser HaNeu
 Veranstaltungen,Weiterbilden
LOCATION:Mehrgenerationenhaus "Pusteblume"\,  Zur Saaleaue 51a\, Halle (Sa
 ale)\, Sachsen-Anhalt\, 06122\, Deutschland
GEO:51.483645;11.93768
X-APPLE-STRUCTURED-LOCATION;VALUE=URI;X-ADDRESS= Zur Saaleaue 51a\, Halle 
 (Saale)\, Sachsen-Anhalt\, 06122\, Deutschland;X-APPLE-RADIUS=100;X-TITLE=
 Mehrgenerationenhaus \"Pusteblume\":geo:51.483645,11.93768
END:VEVENT
BEGIN:VTIMEZONE
TZID:Europe/Berlin
X-LIC-LOCATION:Europe/Berlin
BEGIN:STANDARD
DTSTART:20251026T020000
TZOFFSETFROM:+0200
TZOFFSETTO:+0100
TZNAME:CET
END:STANDARD
END:VTIMEZONE
END:VCALENDAR