BEGIN:VCALENDAR
VERSION:2.0
PRODID:-//wp-events-plugin.com//7.2.3.1//EN
TZID:Europe/Berlin
X-WR-TIMEZONE:Europe/Berlin
BEGIN:VEVENT
UID:141@unser-haneu.de
DTSTART;TZID=Europe/Berlin;VALUE=DATE:20250829
DTEND;TZID=Europe/Berlin;VALUE=DATE:20250901
DTSTAMP:20250829T102244Z
URL:https://unser-haneu.de/events/laternenfest-strahlendes-saaletal/
SUMMARY:Laternenfest - Strahlendes Saaletal
DESCRIPTION:Andere Länder\, andere Sitten. In China etwa ist das Laternenf
 est fest in der Kultur des ganzen Landes verwurzelt. Dort gilt es jedoch z
 um Neujahr als Tag der Brautschau und Ehe­stiftung. Das hallesche Laterne
 nfest hingegen ist ein Volksfest\, dessen Wurzeln auf das Jahr 1928 zurüc
 kgehen. In jenem Jahr beschloss nämlich der Hallesche Wirtschafts- und Ve
 rkehrsverband\, jedem der 30.000 Besucher des sogenannten Blumenkorsos\, d
 em Vorläufer des Laternenfestes\, eine Laterne in die Hand zu geben. Die 
 oft besungene Schönheit des Saaletals sollte so ins „rechte Licht“ ge
 rückt und für die Verkehrswerbung der Stadt nutzbar gemacht werden. Seit
 dem wird traditionell am letzten Augustwochenende – im Jahr 2025 vom 29.
  bis 31. August – in der Saalestadt eines der schönsten Volks- und Heim
 atfeste Mitteldeutschlands gefeiert. Ganz Halle scheint an diesen Tagen au
 f den Beinen zu sein. Aber auch Besucher aus nah und fern zieht es am letz
 ten Sommerwochenende in die malerische Auenlandschaft der Saale am Fuße d
 er Burg Giebichenstein. Einer der jährlichen Höhepunkte des Laternenfest
 es ist der Lampionumzug\, das Feuerwerk oder das Entenrennen. Neben dem Mi
 ttelaltermarkt\, der Bühne der Bühnen Halle und dem Kunstmarkt bietet da
 s Laternenfest eine Vielzahl von Aktivitäten für die ganze Familie. In d
 en zahlreichen Buden und Ständen entlang der Saalepromenade können Besuc
 her lokale Spezialitäten und Leckereien probieren. Karussells und Fahrges
 chäfte bieten Unterhaltung für die Kleinen\, während Kunsthandwerksmär
 kte und Live-Musik-Auftritte Unterhaltung für die Erwachsenen bieten. Das
  Laternenfest schafft eine lebendige und freudige Atmosphäre\, die alle S
 inne anspricht.\n\nvom 29. bis zum 31. August 2025
CATEGORIES:Highlight,Party
LOCATION:Peißnitzinsel Halle\, Peißnitzinsel\, Halle (Saale)\, Sachsen-An
 halt\, 06108\, Deutschland
GEO:51.487938;11.950674
X-APPLE-STRUCTURED-LOCATION;VALUE=URI;X-ADDRESS=Peißnitzinsel\, Halle (Saa
 le)\, Sachsen-Anhalt\, 06108\, Deutschland;X-APPLE-RADIUS=100;X-TITLE=Pei
 ßnitzinsel Halle:geo:51.487938,11.950674
END:VEVENT
BEGIN:VTIMEZONE
TZID:Europe/Berlin
X-LIC-LOCATION:Europe/Berlin
BEGIN:DAYLIGHT
DTSTART:20250330T030000
TZOFFSETFROM:+0100
TZOFFSETTO:+0200
TZNAME:CEST
END:DAYLIGHT
END:VTIMEZONE
END:VCALENDAR