BEGIN:VCALENDAR
VERSION:2.0
PRODID:-//wp-events-plugin.com//7.2.3.1//EN
TZID:Europe/Berlin
X-WR-TIMEZONE:Europe/Berlin
BEGIN:VEVENT
UID:8819@unser-haneu.de
DTSTART;TZID=Europe/Berlin:20260513T100000
DTEND;TZID=Europe/Berlin:20260513T110000
DTSTAMP:20260318T142603Z
URL:https://unser-haneu.de/events/lebensmittelverschwendung-fuer-multiplik
 atorinnen/
SUMMARY:Lebensmittelverschwendung (für Multiplikator:innen)
DESCRIPTION:Die Verbraucherzentrale Sachsen-Anhalt lädt im Rahmen des IN F
 ORM- Verbundprojekts „Gesund und nachhaltig essen mit kleinem Budget –
  gemeinsam Ernährungsarmut begegnen“ herzlich zur Online-Vortragsreihe 
 für Multiplikator:innen ein!\n\nIn unserem zweiten Vortrag geht es um das
  Thema Lebensmittelverschwendung. Was sind die Ursachen für Lebensmittela
 bfälle? Wie kann jede/jeder Einzelne dazu beitragen\, sie zu vermeiden? W
 elche Rolle spielen dabei Mindesthaltbarkeits- und Verbrauchsdatum? Auch h
 ier können Sie selbst aktiv werden und Ihr vorhandenes Wissen auf die Pro
 be stellen.\n\nDie Teilnahme ist kostenlos. Sollten Sie bereits eine Teiln
 ahme planen\, sagen Sie uns doch gern schon Bescheid. Ansonsten können Si
 e sich natürlich auch spontan über den online Link einwählen.\n\nBringe
 n Sie gern Ihre Fragen mit – wir freuen uns auf einen Austausch mit Ihne
 n!\n\nWeitere Informationen zum IN FORM-Projekt finden Sie unter: Gesund\,
  nachhaltig und günstig essen – wie geht das? | Verbraucherzentrale Sac
 hsen-Anhalt\n\nBei Fragen melden Sie sich gern per Mail an: huke-niemeyer@
 vzsa.de\n\n
ATTACH;FMTTYPE=image/jpeg:https://unser-haneu.de/wp-content/uploads/2026/0
 2/lebensmittelverschwendung.jpg
CATEGORIES:Essen,Natur &amp; Umwelt,Online Veranstaltung
LOCATION:https://join.next.edudip.com/de/webinar/gesund-und-nachhaltig-esse
 n-mit-kleinem-budget/2612208
END:VEVENT
BEGIN:VTIMEZONE
TZID:Europe/Berlin
X-LIC-LOCATION:Europe/Berlin
BEGIN:DAYLIGHT
DTSTART:20260329T030000
TZOFFSETFROM:+0100
TZOFFSETTO:+0200
TZNAME:CEST
END:DAYLIGHT
END:VTIMEZONE
END:VCALENDAR