BEGIN:VCALENDAR
VERSION:2.0
PRODID:-//wp-events-plugin.com//7.2.3.1//EN
TZID:Europe/Berlin
X-WR-TIMEZONE:Europe/Berlin
BEGIN:VEVENT
UID:2857@unser-haneu.de
DTSTART;TZID=Europe/Berlin:20250904T140000
DTEND;TZID=Europe/Berlin:20250907T180000
DTSTAMP:20250724T123926Z
URL:https://unser-haneu.de/events/neufest/
SUMMARY:NeuFest
DESCRIPTION:Spielen | Feiern | Singen\n\n\n\n\n\n\nGott begegnen\n\n\n\n\n\
 n\n\n\n\n\n\n\n\n\n\n\n\n\n\n4. - 7. September\n2025\n\n\n\n\n\n\nTäglich
  von\n14:00 - 18:00 Uhr\n\n\n\n\n\n\nfür Kinder von 6 - 12 Jahre\nEltern 
 herzlich willkommen\n\n\n\n\n\n\n\n\n\nParkcafé Vogelnest\nim Südpark\n\
 n\n\n\n\n\n\n\n\n\n\n\n\nHalle-Neustadt feiert!\nUnd DU bist dazu eingelad
 en! \n\n\n\n\n\n\n\n\n\n\n\n\n\n\n\nDu hast Fragen\noder willst mithelfen?
 \nDann schreib uns:\nneufesthalle@gmail.com\n\n\n\n\n
ATTACH;FMTTYPE=image/jpeg:https://unser-haneu.de/wp-content/uploads/2025/0
 7/schrift-1024x576-1.avif
CATEGORIES:Familien,Mitmachen,Musik,Religion
LOCATION:Parkcafé Vogelnest im Südpark\, Am Kirchteich 4\, Halle (Saale)\
 , Sachsen-Anhalt\, 06124\, Deutschland
GEO:51.471341;11.92815
X-APPLE-STRUCTURED-LOCATION;VALUE=URI;X-ADDRESS=Am Kirchteich 4\, Halle (Sa
 ale)\, Sachsen-Anhalt\, 06124\, Deutschland;X-APPLE-RADIUS=100;X-TITLE=Par
 kcafé Vogelnest im Südpark:geo:51.471341,11.92815
END:VEVENT
BEGIN:VTIMEZONE
TZID:Europe/Berlin
X-LIC-LOCATION:Europe/Berlin
BEGIN:DAYLIGHT
DTSTART:20250330T030000
TZOFFSETFROM:+0100
TZOFFSETTO:+0200
TZNAME:CEST
END:DAYLIGHT
END:VTIMEZONE
END:VCALENDAR