BEGIN:VCALENDAR
VERSION:2.0
PRODID:-//wp-events-plugin.com//7.2.3.1//EN
TZID:Europe/Berlin
X-WR-TIMEZONE:Europe/Berlin
BEGIN:VEVENT
UID:1964@unser-haneu.de
DTSTART;TZID=Europe/Berlin;VALUE=DATE:20250724
DTEND;TZID=Europe/Berlin;VALUE=DATE:20251001
DTSTAMP:20250918T114319Z
URL:https://unser-haneu.de/events/organic-mechanics/
SUMMARY:Ausstellung: Organic Mechanics
DESCRIPTION:Der Künstler Yuri Wahl-Valle präsentiert im Mehrgenerationenh
 aus „Pusteblume“ seine neue Bilderreihe Organic Mechanics\, in der org
 anische Formen mit mechanischen Strukturen verschmelzen. Die detailreichen
  Werke zeigen hybride Lebewesen und regen zum Nachdenken über das Zusamme
 nspiel von Natur und Technologie an. Die Ausstellung ist im Foyer und Caf
 é Sadaka zu sehen\, alle Werke sind käuflich erwerbbar.
ATTACH;FMTTYPE=image/jpeg:https://unser-haneu.de/wp-content/uploads/2025/0
 7/YuriWahlValle_OrganicMechanics.jpg.avif
CATEGORIES:Highlight,Kunst,Rollstuhlgeeignet
LOCATION:Mehrgenerationenhaus "Pusteblume"\,  Zur Saaleaue 51a\, Halle (Sa
 ale)\, Sachsen-Anhalt\, 06122\, Deutschland
GEO:51.483645;11.93768
X-APPLE-STRUCTURED-LOCATION;VALUE=URI;X-ADDRESS= Zur Saaleaue 51a\, Halle 
 (Saale)\, Sachsen-Anhalt\, 06122\, Deutschland;X-APPLE-RADIUS=100;X-TITLE=
 Mehrgenerationenhaus \"Pusteblume\":geo:51.483645,11.93768
END:VEVENT
BEGIN:VTIMEZONE
TZID:Europe/Berlin
X-LIC-LOCATION:Europe/Berlin
BEGIN:DAYLIGHT
DTSTART:20250330T030000
TZOFFSETFROM:+0100
TZOFFSETTO:+0200
TZNAME:CEST
END:DAYLIGHT
END:VTIMEZONE
END:VCALENDAR