BEGIN:VCALENDAR
VERSION:2.0
PRODID:-//wp-events-plugin.com//7.2.3.1//EN
TZID:Europe/Berlin
X-WR-TIMEZONE:Europe/Berlin
BEGIN:VEVENT
UID:8828@unser-haneu.de
DTSTART;TZID=Europe/Berlin:20260318T140000
DTEND;TZID=Europe/Berlin:20260318T170000
DTSTAMP:20260226T134926Z
URL:https://unser-haneu.de/events/osterbasteln/
SUMMARY:Osterbasteln
DESCRIPTION:Osterbasteln in der Stadtteilbibliothek West für Groß und Kle
 in\n\nIn der Stadtteilbibliothek West wird wieder gebastelt!\n\nDas Osterf
 est steht vor der Tür!\n\nWir laden Euch auch in diesem Jahr zu unserem b
 eliebten Osterbasteln ein. Das Material steht schon bereit. Es kann also l
 osgehen und gemeinsam können wir bunte Osterdekorationen basteln und gest
 alten. Kommt vorbei!\n\nDer Eintritt ist frei\n\n&nbsp\;\n\n
ATTACH;FMTTYPE=image/jpeg:https://unser-haneu.de/wp-content/uploads/2026/0
 2/26-03-18_WEST-osterbasteln413x550.jpg
CATEGORIES:Kreatives Mitmachen
LOCATION:Stadtteilbibliothek West\, Zur Saaleaue 25A\, Halle (Saale)\, Sach
 sen-Anhalt\, 06122\, Deutschland
GEO:51.483605;11.938132
X-APPLE-STRUCTURED-LOCATION;VALUE=URI;X-ADDRESS=Zur Saaleaue 25A\, Halle (S
 aale)\, Sachsen-Anhalt\, 06122\, Deutschland;X-APPLE-RADIUS=100;X-TITLE=St
 adtteilbibliothek West:geo:51.483605,11.938132
END:VEVENT
BEGIN:VTIMEZONE
TZID:Europe/Berlin
X-LIC-LOCATION:Europe/Berlin
BEGIN:STANDARD
DTSTART:20251026T020000
TZOFFSETFROM:+0200
TZOFFSETTO:+0100
TZNAME:CET
END:STANDARD
END:VTIMEZONE
END:VCALENDAR