BEGIN:VCALENDAR
VERSION:2.0
PRODID:-//wp-events-plugin.com//7.2.3.1//EN
TZID:Europe/Berlin
X-WR-TIMEZONE:Europe/Berlin
BEGIN:VEVENT
UID:8715@unser-haneu.de
DTSTART;TZID=Europe/Berlin:20260319T123000
DTEND;TZID=Europe/Berlin:20260319T160000
DTSTAMP:20251218T091812Z
URL:https://unser-haneu.de/events/pc-kurs-arbeiten-mit-linux-2026-01-08-20
 26-01-15-2026-01-22-2026-01-29-2026-02-05-2026-02-12-2026-02-19-2026-02-26
 -2026-03-05-2026-03-12-2026-03-19/
SUMMARY:PC-Selbsthilfegruppe „Hilfe zur Selbsthilfe"
DESCRIPTION:\n\nComputer und Internet im Café-net(t)\n\n\n\n\n\nIm Bürger
 laden e.V. bieten wir ein einladendes und unterstützendes Umfeld für Sen
 iorinnen und Senioren\, die die Welt der Computer und des Internets entdec
 ken möchten. Unsere Türen stehen sowohl den wissensdurstigen PC-Freunden
  offen\, die hungrig nach neuen digitalen Kenntnissen sind\, als auch denj
 enigen\, die vielleicht noch ein wenig Unsicherheit oder sogar Angst vor d
 er Technik empfinden.\n\nIn zwei Workshop-Gruppen und Grundlagen-Kursen le
 rnen wir Schritt für Schritt gemeinsam\, wie man z.B. Präsentationen ers
 tellt\, Texte bearbeitet\, die vielfältigen Möglichkeiten der Bildbearbe
 itung nutzt und die Scheu vor dem Internet überwindet. Unsere erfahrenen 
 Trainer begleiten Sie auf dieser Reise\, beantworten alle Ihre Fragen und 
 bieten praktische Unterstützung\, damit jeder sein eigenes Tempo finden u
 nd seine Komfortzone erweitern kann.\n\nUnser PC-Club und unsere Workshops
  sind so gestaltet\, dass sie sowohl Anfänger als auch Fortgeschrittene a
 nsprechen. Egal\, ob Sie die Basics der Computerbedienung erlernen möchte
 n oder sich in spezielle Programme vertiefen wollen – hier finden Sie da
 s passende Angebot.\n\nWährend der Pausen genießen wir Kaffee und Kuchen
  aus dem gemütlichen Galerie-Café und nutzen die Zeit für entspannte Ge
 spräche und den Austausch über unsere digitalen Entdeckungen.\n\nKommen 
 Sie vorbei und erleben Sie\, wie einfach und unterhaltsam es sein kann\, s
 ich in die Welt der PCs und des Internets zu wagen. Bei uns werden Sie in 
 Ihrer Neugier ermutigt und in Ihren Sorgen unterstützt. Gemeinsam meister
 n wir die digitale Welt!\n\n\nWann?\ndonnerstags: 12.30 – 16.00 Uhr\, PC
 -Selbsthilfegruppe „Hilfe zur Selbsthilfe"\n\n&nbsp\;\n\n\n\n\nComputer 
 / Internet - Begegnungsstätte Bürgerladen e.V.\n\n\nWeitere PC-Termine:\
 ndienstags: 12.30 – 15.30 Uhr\, PC-Selbsthilfegruppe „Fanclub“\n\nmi
 ttwochs: 10.00 – 12.00 Uhr\, PC-Selbsthilfegruppe „Computer“\n\nmitt
 wochs: 14.00 Uhr – 16.30 Uhr\, PC-Kurs\, Arbeiten mit Linux
ATTACH;FMTTYPE=image/jpeg:https://unser-haneu.de/wp-content/uploads/2025/1
 0/22222222222222.jpg
CATEGORIES:Digitalität
LOCATION:Beratungs- und Begegnungsstätte Bürgerladen e.V.\, Falladaweg 9\
 , Halle (Saale)\, Sachsen-Anhalt\, 06126\, Deutschland
GEO:51.477126;11.907499
X-APPLE-STRUCTURED-LOCATION;VALUE=URI;X-ADDRESS=Falladaweg 9\, Halle (Saale
 )\, Sachsen-Anhalt\, 06126\, Deutschland;X-APPLE-RADIUS=100;X-TITLE=Beratu
 ngs- und Begegnungsstätte Bürgerladen e.V.:geo:51.477126,11.907499
END:VEVENT
BEGIN:VTIMEZONE
TZID:Europe/Berlin
X-LIC-LOCATION:Europe/Berlin
BEGIN:STANDARD
DTSTART:20251026T020000
TZOFFSETFROM:+0200
TZOFFSETTO:+0100
TZNAME:CET
END:STANDARD
END:VTIMEZONE
END:VCALENDAR