BEGIN:VCALENDAR
VERSION:2.0
PRODID:-//wp-events-plugin.com//7.2.3.1//EN
TZID:Europe/Berlin
X-WR-TIMEZONE:Europe/Berlin
BEGIN:VEVENT
UID:8128@unser-haneu.de
DTSTART;TZID=Europe/Berlin:20260219T140000
DTEND;TZID=Europe/Berlin:20260219T190000
DTSTAMP:20260311T135921Z
URL:https://unser-haneu.de/events/queer-spot-2026-02-19/
SUMMARY:Queer-Spot
DESCRIPTION:\nDer Queer-Spot Halle Neustadt\n\n\n\n\nDer Queer-Spot Halle N
 eustadt bietet queeren Jugendlichen\, sowie ihren Freund*innen und Verbün
 deten einen sicheren Ort um sich über verschiedenste Themen ihres Lebens 
 auszutauschen und ihre Interessen zu teilen. Dabei wird der Queer Spot von
  den Fachkräften des Dornröschen begleitet. Unterstützt wird dieses Ang
 ebot zudem vom Lambda MDL e.V.\n\nDer Queer Spot findet jeweils zum dritte
 n Donnerstag des Monats statt.\n\nMöchtest Du abseits unserer Treffen mit
  uns in Kontakt kommen\, dann schreib uns gern über unsere Sozialen Netzw
 erke oder unsere Mailadresse: dornroeschen@awo-halle-merseburg.de\nWeitere
  Infos:\n2024Das Jugendnetzwerk Lambda Mitteldeutschland e.V. bietet vielf
 ältige Angebote zu den Themen Jugend\, Queer\, Trans* und weiteren Themen
 \, welche mit geschlechtlicher und sexueller Vielfalt einhergehen. Mehr In
 fos hier!\n\nEbenfalls bietet das BBZ als queeres Zentrum in Halle (Saale)
  Beratung und Unterstützung. Hier gibt es bspw. eine Gruppe für Eltern u
 nd Angehörige von trans*\, inter* und nicht-binären Kindern\, Jugendlich
 en und Erwachsenen des BBZ “lebensart” e.V.\n\n\n&nbsp\;\n\nQueer-Spot
  Halle Neustadt – AWO Regionalverband
ATTACH;FMTTYPE=image/jpeg:https://unser-haneu.de/wp-content/uploads/2025/0
 7/Queerspot-Logo.avif
CATEGORIES:Familien,Jugendliche,Queer
LOCATION:Kinder-\, Jugend- und Familienzentrum „Dornröschen“\, Hallore
 nstraße 31a\, Halle (Saale)\, Sachsen-Anhalt\, 06122\, Deutschland
GEO:51.484544;11.926847
X-APPLE-STRUCTURED-LOCATION;VALUE=URI;X-ADDRESS=Hallorenstraße 31a\, Halle
  (Saale)\, Sachsen-Anhalt\, 06122\, Deutschland;X-APPLE-RADIUS=100;X-TITLE
 =Kinder-\, Jugend- und Familienzentrum „Dornröschen“:geo:51.484544,11
 .926847
END:VEVENT
BEGIN:VTIMEZONE
TZID:Europe/Berlin
X-LIC-LOCATION:Europe/Berlin
BEGIN:STANDARD
DTSTART:20251026T020000
TZOFFSETFROM:+0200
TZOFFSETTO:+0100
TZNAME:CET
END:STANDARD
END:VTIMEZONE
END:VCALENDAR