BEGIN:VCALENDAR
VERSION:2.0
PRODID:-//wp-events-plugin.com//7.2.3.1//EN
TZID:Europe/Berlin
X-WR-TIMEZONE:Europe/Berlin
BEGIN:VEVENT
UID:107@unser-haneu.de
DTSTART;TZID=Europe/Berlin:20260308T150000
DTEND;TZID=Europe/Berlin:20260308T183000
DTSTAMP:20250919T143520Z
URL:https://unser-haneu.de/events/royal-ballet-opera-2025-26-giselle/
SUMMARY:Royal Ballet & Opera 2025/26: Giselle
DESCRIPTION:Ballett im Film:\n\nDas Bauernmädchen Giselle hat sich in Albr
 echt verliebt. Als sie herausfindet\, dass er ein Adliger ist\, der einer 
 anderen versprochen ist\, nimmt sie sich in ihrer Verzweiflung das Leben. 
 Ihr Geist wird von den Wilis aufgenommen - den rachsüchtigen Geistern von
  Frauen\, die darauf versessen sind\, jeden Mann\, der ihren Weg kreuzt\, 
 dazu zu bringen\, sich zu Tode zu tanzen. Von Gewissensbissen gequält bes
 ucht Albrecht Giselles Grab\, wo er sich den Wilis - und Giselles Geist - 
 stellen muss.\nPeter Wrights Inszenierung von 1985 ist ein Klassiker des R
 oyal-Ballet-Repertoires und ein durch und durch romantisches Ballett. Mit 
 Adolphe Adams bewegender Partitur und dem atmosphärischen Bühnenbild von
  John Macfarlane entführt uns diese Geschichte von Liebe\, Verrat und Erl
 ösung in die irdischen und überirdischen Welten von Giselle.\n\nDauer: 3
 h 30 Min.\n\nTickets
ATTACH;FMTTYPE=image/jpeg:https://unser-haneu.de/wp-content/uploads/2025/0
 7/BRqMEva4qJmgxO4a6QjnIiwdi5F5kWZjgEPXggCx-21.avif
CATEGORIES:Film &amp; Kino,Konzert,Theater
LOCATION:Prisma Cinema\, Neustädter Passage 17\, Halle (Saale)\, Sachsen-A
 nhalt\, 06122\, Deutschland
GEO:51.479251;11.920069
X-APPLE-STRUCTURED-LOCATION;VALUE=URI;X-ADDRESS=Neustädter Passage 17\, Ha
 lle (Saale)\, Sachsen-Anhalt\, 06122\, Deutschland;X-APPLE-RADIUS=100;X-TI
 TLE=Prisma Cinema:geo:51.479251,11.920069
END:VEVENT
BEGIN:VTIMEZONE
TZID:Europe/Berlin
X-LIC-LOCATION:Europe/Berlin
BEGIN:STANDARD
DTSTART:20251026T020000
TZOFFSETFROM:+0200
TZOFFSETTO:+0100
TZNAME:CET
END:STANDARD
END:VTIMEZONE
END:VCALENDAR