BEGIN:VCALENDAR
VERSION:2.0
PRODID:-//wp-events-plugin.com//7.2.3.1//EN
TZID:Europe/Berlin
X-WR-TIMEZONE:Europe/Berlin
BEGIN:VEVENT
UID:3192@unser-haneu.de
DTSTART;TZID=Europe/Berlin:20250812T153000
DTEND;TZID=Europe/Berlin:20250812T163000
DTSTAMP:20250728T100126Z
URL:https://unser-haneu.de/events/selbstbehauptung-2025-07-29-2025-08-05-2
 025-08-12/
SUMMARY:Selbstbehauptung
DESCRIPTION:bis 17.12. von 15:30 Uhr bis 16:30 Uhr im Toberraum
ATTACH;FMTTYPE=image/jpeg:https://unser-haneu.de/wp-content/uploads/2025/0
 7/dornroeschen_logo_final-e1444121325640-768x683-1.avif
CATEGORIES:Familien,Jugendliche
LOCATION:Kinder-\, Jugend- und Familienzentrum „Dornröschen“\, Hallore
 nstraße 31a\, Halle (Saale)\, Sachsen-Anhalt\, 06122\, Deutschland
GEO:51.484544;11.926847
X-APPLE-STRUCTURED-LOCATION;VALUE=URI;X-ADDRESS=Hallorenstraße 31a\, Halle
  (Saale)\, Sachsen-Anhalt\, 06122\, Deutschland;X-APPLE-RADIUS=100;X-TITLE
 =Kinder-\, Jugend- und Familienzentrum „Dornröschen“:geo:51.484544,11
 .926847
END:VEVENT
BEGIN:VTIMEZONE
TZID:Europe/Berlin
X-LIC-LOCATION:Europe/Berlin
BEGIN:DAYLIGHT
DTSTART:20250330T030000
TZOFFSETFROM:+0100
TZOFFSETTO:+0200
TZNAME:CEST
END:DAYLIGHT
END:VTIMEZONE
END:VCALENDAR