BEGIN:VCALENDAR
VERSION:2.0
PRODID:-//wp-events-plugin.com//7.2.3.1//EN
TZID:Europe/Berlin
X-WR-TIMEZONE:Europe/Berlin
BEGIN:VEVENT
UID:7057@unser-haneu.de
DTSTART;TZID=Europe/Berlin:20260319T140000
DTEND;TZID=Europe/Berlin:20260319T140000
DTSTAMP:20251218T092213Z
URL:https://unser-haneu.de/events/seniorennachmittag-2026-03-19/
SUMMARY:Seniorennachmittag
DESCRIPTION:\n\n\n\nGemeinsam Zeit verbringen\n\n\n\n\nAktive Stunden volle
 r Entdeckungen und Begegnungen\n\n\n\n\n\nUnsere Seniorennachmittage biete
 n Ihnen eine wunderbare Gelegenheit\, in angenehmer Gesellschaft abwechslu
 ngsreiche und bereichernde Stunden zu verbringen. Jeden Donnerstag ab 14.0
 0 Uhr laden wir Sie herzlich ein\, an unserem vielseitigen Programm teilzu
 nehmen.\n\nVon anregenden Gesprächsrunden zu aktuellen Themen über infor
 mative Vorträge zur Gesundheit und gesunden Lebensweise bis hin zu faszin
 ierenden Reiseberichten – hier ist für jeden Geschmack etwas dabei.\nMu
 sikalisch-literarische Nachmittage und spannende Buchvorstellungen runden 
 das Angebot ab. Kommen Sie vorbei\, tauschen Sie sich aus und genießen Si
 e gemeinsame Stunden in einer entspannten Atmosphäre bei Kaffee und selbs
 tgemachtem Kuchen.\n\nSeniorennachmittag - Begegnungsstätte Bürgerladen 
 e.V.\n\n\n\n\n
ATTACH;FMTTYPE=image/jpeg:https://unser-haneu.de/wp-content/uploads/2025/1
 0/22222222222222.jpg
CATEGORIES:Essen,Mitmachen,Senior:innen
LOCATION:Beratungs- und Begegnungsstätte Bürgerladen e.V.\, Falladaweg 9\
 , Halle (Saale)\, Sachsen-Anhalt\, 06126\, Deutschland
GEO:51.477126;11.907499
X-APPLE-STRUCTURED-LOCATION;VALUE=URI;X-ADDRESS=Falladaweg 9\, Halle (Saale
 )\, Sachsen-Anhalt\, 06126\, Deutschland;X-APPLE-RADIUS=100;X-TITLE=Beratu
 ngs- und Begegnungsstätte Bürgerladen e.V.:geo:51.477126,11.907499
END:VEVENT
BEGIN:VTIMEZONE
TZID:Europe/Berlin
X-LIC-LOCATION:Europe/Berlin
BEGIN:STANDARD
DTSTART:20251026T020000
TZOFFSETFROM:+0200
TZOFFSETTO:+0100
TZNAME:CET
END:STANDARD
END:VTIMEZONE
END:VCALENDAR