BEGIN:VCALENDAR
VERSION:2.0
PRODID:-//wp-events-plugin.com//7.2.3.1//EN
TZID:Europe/Berlin
X-WR-TIMEZONE:Europe/Berlin
BEGIN:VEVENT
UID:2856@unser-haneu.de
DTSTART;TZID=Europe/Berlin:20250804T130000
DTEND;TZID=Europe/Berlin:20250808T170000
DTSTAMP:20250724T123424Z
URL:https://unser-haneu.de/events/sport-spiele-2/
SUMMARY:Sport & Spiele
DESCRIPTION:auf der Wiese
ATTACH;FMTTYPE=image/jpeg:https://unser-haneu.de/wp-content/uploads/2025/0
 7/Sommerferienprogramm_2025_cover-768x539-1.avif
CATEGORIES:Familien,Jugendliche,Mitmachen,Sport &amp; Bewegung
LOCATION:PASSAGE 13\, Neustädter Passage 13\, Halle (Saale)\, Sachsen-Anha
 lt\, 06122\, Deutschland
GEO:51.480346;11.922077
X-APPLE-STRUCTURED-LOCATION;VALUE=URI;X-ADDRESS=Neustädter Passage 13\, Ha
 lle (Saale)\, Sachsen-Anhalt\, 06122\, Deutschland;X-APPLE-RADIUS=100;X-TI
 TLE=PASSAGE 13:geo:51.480346,11.922077
END:VEVENT
BEGIN:VTIMEZONE
TZID:Europe/Berlin
X-LIC-LOCATION:Europe/Berlin
BEGIN:DAYLIGHT
DTSTART:20250330T030000
TZOFFSETFROM:+0100
TZOFFSETTO:+0200
TZNAME:CEST
END:DAYLIGHT
END:VTIMEZONE
END:VCALENDAR