BEGIN:VCALENDAR
VERSION:2.0
PRODID:-//wp-events-plugin.com//7.2.3.1//EN
TZID:Europe/Berlin
X-WR-TIMEZONE:Europe/Berlin
BEGIN:VEVENT
UID:8809@unser-haneu.de
DTSTART;TZID=Europe/Berlin:20260227T160000
DTEND;TZID=Europe/Berlin:20260227T170000
DTSTAMP:20260203T120614Z
URL:https://unser-haneu.de/events/tanz-und-bewegungsspiele-fuer-eltern-und
 -kinder-in-der-telemannstrasse-1-5-etage/
SUMMARY:Tanz- und Bewegungsspiele für Eltern und Kinder in der Telemannstr
 asse 1 (5. Etage)
DESCRIPTION:Gut informiert. Besser entscheiden. Mitgestalten in Halle-Neust
 adt. \n\nIn Halle-Neustadt entsteht ein neues Nachbarschaftszentrum am Nie
 dersachsenplatz.\nGemeinschaft steht dabei im Vordergrund. Ein großer Au
 ßenbereich und Räume zur gemeinsamen Nutzung laden zum Verweilen ein. Ei
 n großer Themenbereich des neuen Zentrums ist Gesundheit.\nTäglich gibt 
 es neue Schlagzeilen zum Thema Gesundheit. Was bedeutet das\, stimmt das u
 nd wo finde ich gute Informationen und Beratung?\nUm diese Fragen und noch
  mehr zu beantworten\, möchten wir mit Ihnen Ideen ausarbeiten und Angebo
 te für das Nachbarschaftszentrum entwickeln.\n\nWir möchten eine Gruppe 
 aus interessierten Menschen aufbauen\, die sich regelmäßig trifft und ü
 ber folgende Fragen spricht:\n- Welche Gesundheitsthemen sind in Halle-Neu
 stadt relevant?\n- Wie sollten diese Themen angeboten werden?\n- Welche An
 gebote rund um die Gesundheit brauchen Sie in Halle-Neustadt?\n\nWir möch
 ten uns gerne vorstellen und Sie kennenlernen bei Tanz- und Bewegungsspiel
 e für Eltern und Kinder\n\nTanz und Rhythmus für Kinder ab 4 Jahren und 
 Ihre Eltern durchgeführt von Culture Academy e.V.\n\nWann? Freitag\, 27.0
 2.26\, 16:00–17:00 Uhr\n\nWo? Telemannstraße 1 (5. Etage)\n\nBitte meld
 en Sie sich per E-Mail oder Telefon an!\n\nTelefon: 0345 557 1220\; E-Mail
 : haneu.mitgestalten@uk-halle.de\n\n&nbsp\;\n\nWir freuen und auf Ihr Komm
 en!\n\n\n\n&nbsp\;\n\n&nbsp\;
ATTACH;FMTTYPE=image/jpeg:https://unser-haneu.de/wp-content/uploads/2026/0
 2/Logo_und_Zentrum.jpg
CATEGORIES:Erwachsene,Familien,Frauen,Kinder,Männer,Mitmachen,Queer,Sport
 &amp; Bewegung
LOCATION:HaNeuer Wohnen\, Telemannstraße 1\, Halle (Saale)\, Sachsen-Anhal
 t\, 06124\, Deutschland
GEO:51.469543;11.926393
X-APPLE-STRUCTURED-LOCATION;VALUE=URI;X-ADDRESS=Telemannstraße 1\, Halle (
 Saale)\, Sachsen-Anhalt\, 06124\, Deutschland;X-APPLE-RADIUS=100;X-TITLE=H
 aNeuer Wohnen:geo:51.469543,11.926393
END:VEVENT
BEGIN:VTIMEZONE
TZID:Europe/Berlin
X-LIC-LOCATION:Europe/Berlin
BEGIN:STANDARD
DTSTART:20251026T020000
TZOFFSETFROM:+0200
TZOFFSETTO:+0100
TZNAME:CET
END:STANDARD
END:VTIMEZONE
END:VCALENDAR