BEGIN:VCALENDAR
VERSION:2.0
PRODID:-//wp-events-plugin.com//7.2.3.1//EN
TZID:Europe/Berlin
X-WR-TIMEZONE:Europe/Berlin
BEGIN:VEVENT
UID:9546@unser-haneu.de
DTSTART;TZID=Europe/Berlin:20260424T163000
DTEND;TZID=Europe/Berlin:20260424T180000
DTSTAMP:20260407T074002Z
URL:https://unser-haneu.de/events/vernissage-fotoausstellung-katze-pilz-un
 d-sputnik/
SUMMARY:Vernissage Fotoausstellung Katze\, Pilz und Sputnik
DESCRIPTION:Ausstellung Fotografie und Grafik von René Langner (Gerüste d
 er Republik) 24.04. bis 24.06.2026\n\n&nbsp\;\n\nDie Vernissage wird am Fr
 eitag\, den 24. April 2026 16.30 Uhr im Mehrgenerationenhaus Pusteblume Zu
 r Saaleaue 51a in Halle Neustadt stattfinden.\n\nIn dieser Ausstellung lie
 gt der Fokus auf den fotografischen und grafischen Arbeiten. So werden Fot
 ografien diverser Klettergerüste aus Deutschland und Osteuropa zu sehen s
 ein\, ergänzt von Grafiken unterschiedlichster Formen von Klettergerüste
 n.\n\nEinige Dinge graben sich tief in das kollektive Gedächtnis von Gese
 llschaften ein. Das können Ereignisse\, Orte oder Gegenstände sein. Für
  Kinder in der DDR war das das Spielen auf standardisierten Spielplätzen\
 , auf denen ein Klettergerüst aus Stahlrohr nicht fehlen durfte. Der Kle
 tterpilz\, welchen man noch vereinzelt antrifft\, ist ein Symbol für die 
 damaligen Spielplätze. Neben diesem Symbol für Spielplätze in der DDR 
 gab es noch eine riesige Anzahl anderer Formen\, wie z.B. die zum Ende der
  1980er Jahre in Halle entworfenen Kletterkatze. Das Hallesche Atelier\, e
 ine Außenstelle des renommierten VEB Designprojekt Dresden\, entwarf das 
 Spielgerät und der VEB Industrie- und Kraftwerksrohrleitungen Bitterfeld 
 baute sie. In Halle selbst war sie nicht zu finden. \n\nBei der Recherche
  zum Projekt stieß René Langner auf einen Artikel zur Entstehungsgeschic
 hte. Im letzten Jahr gab es die Möglichkeit\, eine dieser Kletterkatzen\,
  aus Hoyerswerda vor dem Verschrotten zu retten. Seit dem steht die Katze 
 im privaten Garten und wartet darauf wieder im öffentlichen Raum aufgeste
 llt zu werden\, denn das ist das Ziel von Langner und seinen Mitstreiter*i
 nnen.\n\nRené Langner\, Diplom Kulturpädagoge\, beschäftigt sich seit 2
 020\, eher zufällig mit diesen Spielgeräten. Anfangs als reines Fotomoti
 v für einen Kletterkalender gedacht\, den er mit dem Kletterer Stefan Kö
 nig erdachte und umsetzte\, später durch eine grafische Annäherung. Dabe
 i fanden sich immer neue Formen und die Erkenntnis\, dass diese Kletterger
 üste kein ausschließliches Phänomen in der DDR waren.\n\nUnterstützt w
 ird das Projekt von der Bürgerstiftung Halle\, der Hallianz für Vielfalt
  und dem Mehrgenerationenhaus Pusteblume.
ATTACH;FMTTYPE=image/jpeg:https://unser-haneu.de/wp-content/uploads/2025/0
 7/maibuam10.avif
CATEGORIES:Erwachsene,Familien,Kinder,Kunst,Kunst &amp;
 Kultur,Senior:innen
LOCATION:Mehrgenerationenhaus "Pusteblume"\,  Zur Saaleaue 51a\, Halle (Sa
 ale)\, Sachsen-Anhalt\, 06122\, Deutschland
GEO:51.483645;11.93768
X-APPLE-STRUCTURED-LOCATION;VALUE=URI;X-ADDRESS= Zur Saaleaue 51a\, Halle 
 (Saale)\, Sachsen-Anhalt\, 06122\, Deutschland;X-APPLE-RADIUS=100;X-TITLE=
 Mehrgenerationenhaus \"Pusteblume\":geo:51.483645,11.93768
END:VEVENT
BEGIN:VTIMEZONE
TZID:Europe/Berlin
X-LIC-LOCATION:Europe/Berlin
BEGIN:DAYLIGHT
DTSTART:20260329T030000
TZOFFSETFROM:+0100
TZOFFSETTO:+0200
TZNAME:CEST
END:DAYLIGHT
END:VTIMEZONE
END:VCALENDAR