BEGIN:VCALENDAR
VERSION:2.0
PRODID:-//wp-events-plugin.com//7.2.3.1//EN
TZID:Europe/Berlin
X-WR-TIMEZONE:Europe/Berlin
BEGIN:VEVENT
UID:8788@unser-haneu.de
DTSTART;TZID=Europe/Berlin:20260205T000000
DTEND;TZID=Europe/Berlin:20260205T000000
DTSTAMP:20260115T084439Z
URL:https://unser-haneu.de/events/vielfalt-in-farbe-bastel-workshop/
SUMMARY:Vielfalt in Farbe - Bastel-Workshop
DESCRIPTION:Mach mit bei unserem gemütlichen Basteltag zum Thema Vielfalt!
 \n\nWir malen schöne Vorlagen aus\, die ganz unterschiedliche Menschen ab
 bilden\, basteln Figuren und denken uns Geschichten zu ihnen aus. Lass dei
 ner Fantasie freien Lauf!\n\nWann?\nDonnerstag\, den 05.02.2026 \nWo? \nKi
 nder-\, Jugend- und Familienzentrum "Dornröschen" Hallorenstraße 31a\, 0
 6122 Halle (Saale) \n\nSprache: Deutsch\, Sprachmittlung: Persisch & Arabi
 sch nach Bedarf \n\nAnmeldung an info@djo-lsa.de oder 0176/36985056\nTeiln
 ahmebetrag: 1\,50€ pro Person für Snacks & Getränke \n\nEine Veranstal
 tung des djo-Landesverband Sachsen-Anhalt e.V. in Kooperation mit der AWO 
 Halle-Merseburg und dem Kinder-\, Jugend- und Familienzentrum Dornröschen
 . Gefördert durch das Landesverwatlungsamt Sachsen-Anhalt (Ministerium f
 ür Arbeit\, Soziales\, Gesundheit und Gleichstellung des Landes Sachsen-A
 nhalt). \n
CATEGORIES:Jugendliche,Kinder,Mitmachen
LOCATION:Kinder-\, Jugend- und Familienzentrum „Dornröschen“\, Hallore
 nstraße 31a\, Halle (Saale)\, Sachsen-Anhalt\, 06122\, Deutschland
GEO:51.484544;11.926847
X-APPLE-STRUCTURED-LOCATION;VALUE=URI;X-ADDRESS=Hallorenstraße 31a\, Halle
  (Saale)\, Sachsen-Anhalt\, 06122\, Deutschland;X-APPLE-RADIUS=100;X-TITLE
 =Kinder-\, Jugend- und Familienzentrum „Dornröschen“:geo:51.484544,11
 .926847
END:VEVENT
BEGIN:VTIMEZONE
TZID:Europe/Berlin
X-LIC-LOCATION:Europe/Berlin
BEGIN:STANDARD
DTSTART:20251026T020000
TZOFFSETFROM:+0200
TZOFFSETTO:+0100
TZNAME:CET
END:STANDARD
END:VTIMEZONE
END:VCALENDAR