BEGIN:VCALENDAR
VERSION:2.0
PRODID:-//wp-events-plugin.com//7.2.3.1//EN
TZID:Europe/Berlin
X-WR-TIMEZONE:Europe/Berlin
BEGIN:VEVENT
UID:8800@unser-haneu.de
DTSTART;TZID=Europe/Berlin:20260219T153000
DTEND;TZID=Europe/Berlin:20260219T170000
DTSTAMP:20260128T142102Z
URL:https://unser-haneu.de/events/vortrag-selbstbestimmt-vorsorgen-wer-tri
 fft-ihre-entscheidungen/
SUMMARY:Vortrag "Selbstbestimmt vorsorgen - Wer trifft Ihre Entscheidungen?
 "
DESCRIPTION:Ein Vortrag über Vorsorgevollmacht\, Patientenverfügung und r
 echtliche Absicherung\n\n&nbsp\;\n\nDer Vortrag richtet sich sowohl an Men
 schen\, die sich über Vorsorgevollmacht und Patientenverfügung informier
 en möchten\, als auch an Personen\, die Unterstützung im Alltag oder bei
  Entscheidungen benötigen.\n\nReferentin: Maryam Koppermann von der Betre
 uungsbehörde der Stadt Halle\n\nFür Kaffee\, Tee und Wasser ist gesorgt.
 \nWo?: Mehrgenerationenhaus Pusteblume\, Zur Saaleaue 51a\, 06122 Halle Sa
 ale\nSeminarraum 3/4\, EG (barrierefrei zugänglich)\n&nbsp\;\nAnsprechper
 son:\nNina Kaiser\, AWO SPI\, Projektleitung Erfahrungsschätze Halle\nn.k
 aiser@awo-spi.de\, Mobil: 015904499790\n&nbsp\;\n\n
ATTACH;FMTTYPE=image/jpeg:https://unser-haneu.de/wp-content/uploads/2026/0
 1/Rechtliche-Betreuung-–-eine-verantwortungsvolle-Aufgabe.jpg
CATEGORIES:Beratung &amp;
 Hilfe,Erwachsene,Familien,Senior:innen,Weiterbilden
LOCATION:Mehrgenerationenhaus "Pusteblume"\,  Zur Saaleaue 51a\, Halle (Sa
 ale)\, Sachsen-Anhalt\, 06122\, Deutschland
GEO:51.483645;11.93768
X-APPLE-STRUCTURED-LOCATION;VALUE=URI;X-ADDRESS= Zur Saaleaue 51a\, Halle 
 (Saale)\, Sachsen-Anhalt\, 06122\, Deutschland;X-APPLE-RADIUS=100;X-TITLE=
 Mehrgenerationenhaus \"Pusteblume\":geo:51.483645,11.93768
END:VEVENT
BEGIN:VTIMEZONE
TZID:Europe/Berlin
X-LIC-LOCATION:Europe/Berlin
BEGIN:STANDARD
DTSTART:20251026T020000
TZOFFSETFROM:+0200
TZOFFSETTO:+0100
TZNAME:CET
END:STANDARD
END:VTIMEZONE
END:VCALENDAR