BEGIN:VCALENDAR
VERSION:2.0
PRODID:-//wp-events-plugin.com//7.2.3.1//EN
TZID:Europe/Berlin
X-WR-TIMEZONE:Europe/Berlin
BEGIN:VEVENT
UID:4541@unser-haneu.de
DTSTART;TZID=Europe/Berlin:20251201T000000
DTEND;TZID=Europe/Berlin:20251219T000000
DTSTAMP:20251202T105533Z
URL:https://unser-haneu.de/events/weihnachtsspektakel-in-die-gruene-villa-
 vom-1-12-19-12-2025/
SUMMARY:Weihnachtsspektakel in der Grünen Villa
DESCRIPTION:Es ist wieder soweit: Es weihnachtet. Wir wollen euch und Halle
 -Neustadt in die Weihnachtszeit begleiten. Dazu haben wir uns mit unseren 
 Besucher*innen und der Nachbarschaft ein tolles Weihnachtsprogramm einfall
 en lassen.\n\nEuch erwartet ein vorweihnachtliches Programm mit vielen Hö
 hepunkten!\n\nBesonders gerne möchten wir Euch zu dem Konzert "Wims Winte
 rreise" am 2.12. und zu dem Puppentheaterstück  "Heule Eule" (ab 2 Jahr
 en) am 8.12. jeweils um 15 Uhr einladen.\n\n1.12. 14 Uhr Gemeinsames Schm
 ücken der Grünen Villa\n2.12. 15 Uhr Familienkonzert "Wims Winterreise"\
 n3.12. 15 Uhr Familientreff: Weihnachtskaraoke\n5.12. 14 Uhr Weihnachtsbä
 ckerei\n8.12. 15 Uhr Puppentheater "Heule Eule"\n9.12. 15 Uhr Märchenstun
 de am Schokobrunnen\n11.12. 16 Uhr Jugendclub: Weihnachtsparty\n12.12. 14 
 Uhr Bastelwerkstatt\n15.12. 15 Uhr Weihnachtskino\n16.12. 15 Uhr Bescherun
 g &amp\; Weihnachtsdisco\n19.12. 14 Uhr Geschenkewerkstatt: "Hilfe\, ich b
 rauche noch ein Geschenk!"
CATEGORIES:Familien,Kunst &amp; Kultur
LOCATION:Kulturwerkstatt Grüne Villa\, Am Treff 4\, Halle (Saale)\, Sachse
 n-Anhalt\, 06124\, Deutschland
GEO:51.477518;11.928417
X-APPLE-STRUCTURED-LOCATION;VALUE=URI;X-ADDRESS=Am Treff 4\, Halle (Saale)\
 , Sachsen-Anhalt\, 06124\, Deutschland;X-APPLE-RADIUS=100;X-TITLE=Kulturwe
 rkstatt Grüne Villa:geo:51.477518,11.928417
END:VEVENT
BEGIN:VTIMEZONE
TZID:Europe/Berlin
X-LIC-LOCATION:Europe/Berlin
BEGIN:STANDARD
DTSTART:20251026T020000
TZOFFSETFROM:+0200
TZOFFSETTO:+0100
TZNAME:CET
END:STANDARD
END:VTIMEZONE
END:VCALENDAR