BEGIN:VCALENDAR
VERSION:2.0
PRODID:-//wp-events-plugin.com//7.2.3.1//EN
TZID:Europe/Berlin
X-WR-TIMEZONE:Europe/Berlin
BEGIN:VEVENT
UID:8810@unser-haneu.de
DTSTART;TZID=Europe/Berlin:20260202T110000
DTEND;TZID=Europe/Berlin:20260207T150000
DTSTAMP:20260204T094814Z
URL:https://unser-haneu.de/events/winterferien-programm-p13/
SUMMARY:Winterferien Programm P13
DESCRIPTION:Vom 2.–7.2.2026 erwarten euch wieder tolle Ferienangebote in 
 der Passage13!\n\nMontag\, 2.2.:\nBrettspielcafé ab 11 Uhr |\nKunsthandwe
 rk in der Holzwerkstatt von 12–16 Uhr\n\nDienstag\, 3.2.:\nBrettspielcaf
 é ab 11 Uhr |\nEinsteiger-Blender-Kurs: 3D-Modelling von 11–16 Uhr\n\nM
 ittwoch\, 4.2.:\nBrettspielcafé ab 11 Uhr |\nGemeinsames Kochen und Backe
 n von 11–15 Uhr\n\nDonnerstag\, 5.2.:\nFashion Art im Makerspace von 11
 –17 Uhr\n\nFreitag\, 6.2.:\nFashion Art im Makerspace von 11–14 Uhr |\
 nMario-Kart-Turnier ab 15 Uhr\n\nSamstag\, 7.2.:\nÜbernachtung in der Pas
 sage13 (ab 14 Jahre) ab 16 Uhr!\n\nMeldet euch gerne an oder kommt einfach
  vorbei!\nAnmeldung per E-Mail an: anmeldung@passage13.org
ATTACH;FMTTYPE=image/jpeg:https://unser-haneu.de/wp-content/uploads/2026/0
 1/P13-Logo.png
CATEGORIES:Digitalität,Essen,Jugendliche,Kinder,Kreatives
 Mitmachen,Mitmachen,Smart City Halle
LOCATION:Passage 13\, Neustädter Passage 13\, Halle (Saale)\, Sachsen-Anha
 lt\, 06122\, Deutschland
GEO:51.480396;11.921891
X-APPLE-STRUCTURED-LOCATION;VALUE=URI;X-ADDRESS=Neustädter Passage 13\, Ha
 lle (Saale)\, Sachsen-Anhalt\, 06122\, Deutschland;X-APPLE-RADIUS=100;X-TI
 TLE=Passage 13:geo:51.480396,11.921891
END:VEVENT
BEGIN:VTIMEZONE
TZID:Europe/Berlin
X-LIC-LOCATION:Europe/Berlin
BEGIN:STANDARD
DTSTART:20251026T020000
TZOFFSETFROM:+0200
TZOFFSETTO:+0100
TZNAME:CET
END:STANDARD
END:VTIMEZONE
END:VCALENDAR