BEGIN:VCALENDAR
VERSION:2.0
PRODID:-//wp-events-plugin.com//7.2.3.1//EN
TZID:Europe/Berlin
X-WR-TIMEZONE:Europe/Berlin
BEGIN:VEVENT
UID:8801@unser-haneu.de
DTSTART;TZID=Europe/Berlin:20260202T120000
DTEND;TZID=Europe/Berlin:20260206T170000
DTSTAMP:20260129T134023Z
URL:https://unser-haneu.de/events/winterferienprogramm/
SUMMARY:Winterferienprogramm
DESCRIPTION:\n\n\n\n\n\n\n2-6.02.2026 von 12 - 17 Uhr\nMontag Pizza backen 
 &amp\; Foto-Workshop mit Smartphone "Lightpainting &amp\; Falsche Perspekt
 ive" Dienstag Faschingsparty mit Disco\, Mitmachaktionen &amp\; Knabbereie
 n Mittwoch Gemeinsam kochen &amp\; Impro-Theater Donnerstag &amp\; Freitag
  Bastelwerkstatt Donnerstag: ab 17 Uhr selbstorganisierter Jugendclub\n\n\
 n\n\n\n\n\n\nIn der Kulturwerkstatt Grüne Villa\nAktionstheater Halle e.
 V.\nAm Treff 4\n06124 Halle (Saale)\nEmail: sozialarbeit@kulturwerkstatt-
 halle.de\nTelefon: 0345- 686 755 77\nwww.kulturwerkstatt-halle.de\n
CATEGORIES:Erwachsene,Essen,Familien,Frauen,Jugendliche,Kinder,Kreatives
 Mitmachen,Kunst,Kunst &amp;
 Kultur,Männer,Mitmachen,Party,Queer,Rollstuhlgeeignet,Senior:innen,Theate
 r
LOCATION:Kulturwerkstatt Grüne Villa\, Am Treff 4\, Halle (Saale)\, Sachse
 n-Anhalt\, 06124\, Deutschland
GEO:51.477518;11.928417
X-APPLE-STRUCTURED-LOCATION;VALUE=URI;X-ADDRESS=Am Treff 4\, Halle (Saale)\
 , Sachsen-Anhalt\, 06124\, Deutschland;X-APPLE-RADIUS=100;X-TITLE=Kulturwe
 rkstatt Grüne Villa:geo:51.477518,11.928417
END:VEVENT
BEGIN:VTIMEZONE
TZID:Europe/Berlin
X-LIC-LOCATION:Europe/Berlin
BEGIN:STANDARD
DTSTART:20251026T020000
TZOFFSETFROM:+0200
TZOFFSETTO:+0100
TZNAME:CET
END:STANDARD
END:VTIMEZONE
END:VCALENDAR