BEGIN:VCALENDAR
VERSION:2.0
PRODID:-//wp-events-plugin.com//7.2.3.1//EN
TZID:Europe/Berlin
X-WR-TIMEZONE:Europe/Berlin
BEGIN:VEVENT
UID:4540@unser-haneu.de
DTSTART;TZID=Europe/Berlin:20251217T110000
DTEND;TZID=Europe/Berlin:20251220T180000
DTSTAMP:20251219T065650Z
URL:https://unser-haneu.de/events/wintermarkt-auf-dem-stadtplatz-neustadt/
SUMMARY:Wintermarkt auf dem Stadtplatz Neustadt
DESCRIPTION:Vom 17. bis 20. Dezember 2025 feiern wir unseren ersten zentral
 en Wintermarkt im Stadtteil.\n\nGemeinsam verwandeln wir die Fläche vorm 
 Neustadt Centrum in ein gemütliches Winterdorf mit festlich geschmückten
  Markthütten\, in denen es viel zu entdecken gibt:\n\n 	Selbstgemachtes u
 nd Handwerkskunst\n 	Heißer Punsch &amp\; Glühwein\n 	Weihnachtliche Lec
 kereien und kulinarische Köstlichkeiten\n 	Live-Musik\n 	Tombola mit gro
 ßartigen Preisen\n 	Viele bunte Mitmach-Aktionen für Groß und Klein\n 	
 Lokale Initiativen &amp\; Sportvereine stellen sich vor\n\nUnser diesjähr
 iger Wintermarkt entsteht mit der Nachbarschaft und für die Nachbarschaft
 ! Viele lokale Initiativen\, Vereine und Sportgruppen aus Halle Neustadt s
 ind dabei\, stellen sich vor\, bringen eigene Ideen ein und machen den Mar
 kt zu einem Ort\, der zeigt\, wie vielfältig und engagiert unser Stadttei
 l ist.\n\nAußerdem warten an jedem Tag besondere Highlights\, auf die ihr
  euch freuen könnt – von Workshops bis hin zu besonderen Programmpunkte
 n auf der Bühne.\n\nÖffnungszeiten\n17.12\, 18.12 und 20.12.2025\, 11 bi
 s 18 Uhr \n19.12\, 11 bis 20 Uhr \n\nHighlights\n17. &amp\; 18.12.\nMitm
 ach Aktionen von krimZkrams Halle\n\n19.12              \n
 Knüppelkuchen\, Mobile Maker des Smart-City-Bildungszentrum\, Videoprojek
 tion auf Scheibe A und Bühnenprogramm in Kooperation mit Smart City Hall
 e (Saale) und Yalla Bühne Passage 13\n\n20.12.           \nFab
 mobil Mitmach-Werkstatt mit 3D-Drucker und Lasercutter in Kooperation mit 
 Smart City Halle\n\nDer Wintermarkt Halle Neustadt ist ein gemeinsames Pro
 jekt des Kulturbühne Neustadt e.V./ Passage 13\, dem Passagemanagement Ne
 ustadt\, der GWG Halle-Neustadt mbh und dem Neustadt Centrum Halle.\n\nKom
 mt vorbei\, bringt Freund*innen\, Familie oder eure Nachbarn mit – und l
 asst uns gemeinsam ein paar gemütliche\, fröhliche und winterliche Tage 
 verbringen.\n\nWinterliche Grüße\nvom Passagemanagement und gesamten Win
 termarkt-Team
ATTACH;FMTTYPE=image/jpeg:https://unser-haneu.de/wp-content/uploads/2025/1
 2/Screenshot-2025-12-02-101109.png
CATEGORIES:Erwachsene,Essen,Familien,Highlight,Jugendliche,Markt &amp;
 Flohmarkt,Party,Senior:innen
LOCATION:Neustadt Centrum Halle\, Neustädter Passage 17d\, Halle (Saale)\,
  Sachsen-Anhalt\, 06122\, Deutschland
GEO:51.480363;11.91964
X-APPLE-STRUCTURED-LOCATION;VALUE=URI;X-ADDRESS=Neustädter Passage 17d\, H
 alle (Saale)\, Sachsen-Anhalt\, 06122\, Deutschland;X-APPLE-RADIUS=100;X-T
 ITLE=Neustadt Centrum Halle:geo:51.480363,11.91964
END:VEVENT
BEGIN:VTIMEZONE
TZID:Europe/Berlin
X-LIC-LOCATION:Europe/Berlin
BEGIN:STANDARD
DTSTART:20251026T020000
TZOFFSETFROM:+0200
TZOFFSETTO:+0100
TZNAME:CET
END:STANDARD
END:VTIMEZONE
END:VCALENDAR