BEGIN:VCALENDAR
VERSION:2.0
PRODID:-//wp-events-plugin.com//7.2.3.1//EN
TZID:Europe/Berlin
X-WR-TIMEZONE:Europe/Berlin
BEGIN:VEVENT
UID:8802@unser-haneu.de
DTSTART;TZID=Europe/Berlin:20260206T143000
DTEND;TZID=Europe/Berlin:20260206T173000
DTSTAMP:20260206T141031Z
URL:https://unser-haneu.de/events/winterprogramm-seifenworkshop/
SUMMARY:ABGESAGT: Winterferienprogramm Seifenworkshop
DESCRIPTION:WINTERPROGRAMM IN DER PUSTEBLUME\n\nAm Freitag\, den 06. Februa
 r\, treffen wir uns zwischen 14:30-17:30 in der Pusteblume um gemeinsam gu
 t duftende Seifen herzustellen. Das Programm wird in Kooperation mit dem 
 „Ein Schutzengel für Kinder e.V.“ durchgeführt und richtet sich an K
 inder\, Jugendliche und Familien. Neben der Seifenherstellung wird es auch
  noch einen Kreativtisch mit allerhand Bastel- und Malaktivitäten geben. 
 Snacks und Getränke stehen ebenfalls bereit.\n\nFür die bessere Planbark
 eit bitten wir um eine Anmeldung unter: c.seitter@awo-spi.de (0345 6869481
 0)\n\nWir freuen uns auf Euch und einen kreativen Nachmittag.\n\n
ATTACH;FMTTYPE=image/jpeg:https://unser-haneu.de/wp-content/uploads/2026/0
 1/Insta-flyer.png
CATEGORIES:Familien,Jugendliche,Kinder,Kreatives Mitmachen,Kunst,Kunst
 &amp; Kultur,Mitmachen,Rollstuhlgeeignet
LOCATION:Mehrgenerationenhaus "Pusteblume"\,  Zur Saaleaue 51a\, Halle (Sa
 ale)\, Sachsen-Anhalt\, 06122\, Deutschland
GEO:51.483645;11.93768
X-APPLE-STRUCTURED-LOCATION;VALUE=URI;X-ADDRESS= Zur Saaleaue 51a\, Halle 
 (Saale)\, Sachsen-Anhalt\, 06122\, Deutschland;X-APPLE-RADIUS=100;X-TITLE=
 Mehrgenerationenhaus \"Pusteblume\":geo:51.483645,11.93768
END:VEVENT
BEGIN:VTIMEZONE
TZID:Europe/Berlin
X-LIC-LOCATION:Europe/Berlin
BEGIN:STANDARD
DTSTART:20251026T020000
TZOFFSETFROM:+0200
TZOFFSETTO:+0100
TZNAME:CET
END:STANDARD
END:VTIMEZONE
END:VCALENDAR