BEGIN:VCALENDAR
VERSION:2.0
PRODID:-//wp-events-plugin.com//7.2.3.1//EN
TZID:Europe/Berlin
X-WR-TIMEZONE:Europe/Berlin
BEGIN:VEVENT
UID:9859@unser-haneu.de
DTSTART;TZID=Europe/Berlin:20260616T183000
DTEND;TZID=Europe/Berlin:20260616T183000
DTSTAMP:20260407T083046Z
URL:https://unser-haneu.de/events/wissenschaft-ganz-nah-hitze-frei/
SUMMARY:Wissenschaft ganz nah – "Hitze-Frei"?
DESCRIPTION:Wie mit der Überhitzung von Städten im Sommer umgehen\n\n2026
  bringen die Stadt Halle (Saale)\, die Martin-Luther-Universität Halle-Wi
 ttenberg und die Volkshochschule Halle mit der neuen Veranstaltungsreihe 
 „Wissenschaft im Quartier“ aktuelle Forschungsthemen direkt in Ihre Na
 chbarschaft.\nAn fünf abwechslungsreichen Abenden laden wir Sie ein\, Wis
 senschaft verständlich\, alltagsnah und mitten in Ihrem Stadtteil zu erle
 ben. Ob gesellschaftliche Zukunftsfragen oder spannendes Spezialwissen aus
  der Universität: Die Themen sind so vielfältig wie die Stadt und die Un
 iversität selbst.\n\nWie können Städte auf die steigenden Temperaturen 
 im Sommer reagieren und welche innovativen Lösungen machen unsere Quartie
 re zukunftsfähig?\n\nIm Vortrag zum Thema „Urban Heat Lab“ erfahren S
 ie\, wie wissenschaftliche Modelle und moderne Forschung helfen\, die Hitz
 ebelastung in dicht bebauten Stadtteilen wie Halle-Neustadt zu reduzieren.
  Ein besonderer Fokus liegt dabei auf dem Schutz von Menschen\, die besond
 ers stark unter hohen Temperaturen leiden – wie ältere Bewohner\, Kinde
 r oder Menschen mit gesundheitlichen Einschränkungen.\n\nEntdecken Sie\, 
 welche Rolle Grünflächen\, nachhaltige Bauweisen und smarte Technologien
  in der Bekämpfung der städtischen Wärmeinseln spielen und wie Städte 
 wie Halle (Saale) sich auf die Herausforderungen des Klimawandels vorberei
 ten können. Ein spannender Einblick in die Städte der Zukunft – direkt
  vor Ihrer Haustür!\n\nDie Referentin Prof. Dr. Christine Fürst ist Prof
 essorin für Nachhaltige Landschaftsentwicklung an der Martin-Luther-Unive
 rsität Halle-Wittenberg und Christiane Lütgert ist Abteilungsleiterin St
 adterneuerung\, Förderung\, Finanzen der Stadt Halle (Saale).
ATTACH;FMTTYPE=image/jpeg:https://unser-haneu.de/wp-content/uploads/2026/0
 1/P13-Logo.png
CATEGORIES:Natur &amp; Umwelt,Politik &amp; Gesellschaft,Weiterbilden
LOCATION:Passage 13\, Neustädter Passage 13\, Halle (Saale)\, Sachsen-Anha
 lt\, 06122\, Deutschland
GEO:51.480396;11.921891
X-APPLE-STRUCTURED-LOCATION;VALUE=URI;X-ADDRESS=Neustädter Passage 13\, Ha
 lle (Saale)\, Sachsen-Anhalt\, 06122\, Deutschland;X-APPLE-RADIUS=100;X-TI
 TLE=Passage 13:geo:51.480396,11.921891
END:VEVENT
BEGIN:VTIMEZONE
TZID:Europe/Berlin
X-LIC-LOCATION:Europe/Berlin
BEGIN:DAYLIGHT
DTSTART:20260329T030000
TZOFFSETFROM:+0100
TZOFFSETTO:+0200
TZNAME:CEST
END:DAYLIGHT
END:VTIMEZONE
END:VCALENDAR